Workbook

Sheet 交付申請書（第1号様式）
A1: 別記第１号様式（第６条関係）
G2: 申請日
A3: 江東区長 殿
D4: 町会・自治会名
D5: 会長名
D6: 担当者名
D7: 担当者連絡先
C9: 江東区町会・自治会地域活性化事業補助金交付申請書
A11: 江東区町会・自治会地域活性化事業補助金交付要綱（以下「要綱」という。）第６条の規定に
A12: 基づき、下記のとおり補助金の交付を申請します。
E13: 記
A14: １ 補助対象額概要
A15: 申請区分 | B15: 申請番号 | C15: 事業の名称 | G15: 補助対象額 | H15: 枠ごとの合計額
A16: 地域イベント | B16: 1
B17: 2 | H17: =IF(G16+G17=0,"",MIN(200000,ROUNDDOWN(G16+G17,-3)))
B18: 3
B19: 4 | H19: =IF(G18+G19=0,"",MIN(150000,ROUNDDOWN(G18+G19,-3)))
A21: ２ 交付申請額
A22: =IF(SUM(H17,H19)=0,"",SUM(H17,H19))
A24: ３ 注意事項
A25: ・同一の事業について、他の補助金等の交付を受けている場合は、本補助金の対象となりません。
A26: ・本補助金の申請は、各団体につき同一年度内で１回限りとします。
A27: ・補助金の趣旨及び各種要件をご確認の上、お申し込みください。
A29: 添付書類 （注）審査後に返却はしません。
A30: (1) 江東区町会・自治会地域活性化事業補助金実施報告書（別記第２号様式）
A31: (2) 江東区町会・自治会地域活性化事業補助金事業決算書（別記第３号様式）
A32: (3) 補助対象経費に係る領収書
A33: (4) ポスター、チラシ等の補助対象事業の周知に用いた書類
A34: (5) 実施した補助対象事業の内容等が分かる写真
A35: (6) 前各号に掲げるもののほか、区長が必要と認める書類

Sheet 実施報告書（第2号様式）
A1: 別記第２号様式（第６条関係）
H2: 申請番号
E3: 町会・自治会名 | G3: =IF('交付申請書（第1号様式）'!F4="","",'交付申請書（第1号様式）'!F4)
C5: 江東区町会・自治会地域活性化事業補助金実施報告書
A7: 補助対象 事業の名称 | C7: =IF(I2="","",_xlfn.XLOOKUP(I2,'交付申請書（第1号様式）'!B16:B101,'交付申請書（第1号様式）'!C16:C101,""))
A9: 実施期間 | C9: 令和 | E9: 年 | G9: 月 | I9: 日
E10: ～ | G10: 月 | I10: 日
A11: 実施場所
A13: 実施内容
C23: 参加人数 | E23: 名
A24: 周知方法 | C24: ※該当するものにレ印をお願いします。（複数回答可）
C25: FALSE | D25: ポスター | E25: FALSE | F25: チラシ | G25: FALSE | H25: プログラム
C26: FALSE | D26: その他 ※以下に周知方法を記載してください。
A30: 補助対象 事業の成果 | C30: ※該当するものにレ印をお願いします。（複数回答可）
C31: FALSE | D31: 地域住民と交流ができ、地域の活性化につながった
C32: FALSE | D32: 今後の運営又は地域活動の担い手の育成につながった
C33: FALSE | D33: 未加入者の加入促進につながった
C34: FALSE | D34: 子育て世代とのつながりができた
C35: FALSE | D35: 地域の防犯意識の向上につながった
C36: FALSE | D36: その他 ※以下に成果を記載してください。

Sheet 事業決算書（第３号様式）
A1: 別記第３号様式（第６条関係） | H1: 申請番号 | I1: =IF('実施報告書（第2号様式）'!I2="","",'実施報告書（第2号様式）'!I2)
H2: 申請区分
E3: 町会・自治会名 | G3: =IF('交付申請書（第1号様式）'!F4="","",'交付申請書（第1号様式）'!F4)
C5: 江東区町会・自治会地域活性化事業補助金事業決算書
A7: 補助対象 事業の名称 | C7: =IF(I1="","",_xlfn.XLOOKUP(I1,'交付申請書（第1号様式）'!B16:B101,'交付申請書（第1号様式）'!C16:C101,""))
A10: 通番 | B10: 科目 | D10: 内訳 | G10: 金額 | H10: ポイント | I10: 差引額
A11: 1 | B11: 印刷費 | I11: =IF(G11-H11=0,"",G11-H11)
A13: 2 | B13: 委託費 | I13: =IF(G13-H13=0,"",G13-H13)
A15: 3 | B15: 謝礼金 | I15: =IF(G15-H15=0,"",G15-H15)
A17: 4 | B17: 使用料及び賃借料 | I17: =IF(G17-H17=0,"",G17-H17)
A19: 5 | B19: 物品購入費 | I19: =IF(G19-H19=0,"",G19-H19)
A24: 6 | B24: 工事費 | I24: =IF(G24-H24=0,"",G24-H24)
A26: 7 | B26: 景品、参加賞、 お菓子等購入費 （こどもイベント枠） | I26: =IF(G26-H26=0,"",G26-H26)
A29: 8 | B29: バス借上げ代金等 （こどもイベント枠） | I29: =IF(G29-H29=0,"",G29-H29)
A31: 9 | B31: 防犯啓発グッズ （地域防犯枠） | I31: =IF(G31-H31=0,"",G31-H31)
A33: 10 | B33: その他 | I33: =IF(G33-H33=0,"",G33-H33)
A35: 合計 | G35: =IF(COUNT(G11:G34)=0,"",SUM(G11:G34)) | H35: =IF(COUNT(H11:H34)=0,"",SUM(H11:H34)) | I35: =IF(G35="","",G35-IFERROR(VALUE(H35),0))
B37: ※金額は、税込みの金額を記載してください。
B38: ※ポイントは、１ポイント１円換算で計算してください。
B39: ※通番７、９は、１品目１万円（税込み）以下、５万円以内としてください。

Sheet -
A1: こどもイベント | C1: 地域 | D1: 8 | E1: 4 | F1: 1
A2: 地域防犯 | C2: こども | D2: 9 | E2: 5 | F2: 2
C3: 防犯 | E3: 6 | F3: 3
E4: 7 | F4: 4
E5: 8 | F5: 5
E6: 9 | F6: 6
E7: 10 | F7: 7
E8: 11 | F8: 8
E9: 12 | F9: 9
E10: 1 | F10: 10
F11: 11
F12: 12
F13: 13
F14: 14
F15: 15
F16: 16
F17: 17
F18: 18
F19: 19
F20: 20
F21: 21
F22: 22
... F31: 31
