Workbook

Sheet 【R9】支給認定・利用申込書
A1: ※ 電子申請で提出する場合は、必ずPDFに変換して添付してください。
C2: 別記第２号様式（第５条関係）
D3: 教育・保育給付認定申請書 兼 令和９年度 保育所等 利用申込書 | AR3: （ | AT3: □ | AW3: 転所 ） | BH3: 清澄 | BI3: 男 | BJ3: 46478 | BL3: 〇
C4: 江東区長 殿 | AR4: 転所を希望の場合、上の□にチェックをお願いします。 転所の必要がなくなった場合には申込みの取下げが必要です。 | BH4: 常盤 | BI4: 女 | BJ4: =TODAY() -> 46283
C5: ①の記載内容のとおり、子どものための教育・保育給付に係る支給認定の申請をします。※1 | BH5: 新大橋
C6: 江東区福祉事務所長 殿 | BH6: 森下
C7: ①及び②の記載内容のとおり、入園のしおりの内容を承諾した上で保育所等の利用申込みをします。 | BH7: 平野
C8: 教育・保育給付認定、保育施設の利用調整及び保育料の決定にあたり、マイナンバーの情報連携に同意します。 | AO8: 申込日 | AT8: 年 | AY8: 月 | BD8: 日 | BH8: 三好
C9: ※申込み児童が３名以上の場合にはコピーしてお使いください。 | BH9: 白河
C10: ① | D10: 現住所 | T10: 丁目 | AA10: 番 | AF10: － | AH10: マンション名など | BB10: 号 | BH10: 高橋
D11: 氏 名 | U11: 生 年 月 日 | AB11: 年 齢 | AF11: 令和8年（2026年）1月1日時点の住民登録地 （正確にご記入ください）※4 | BH11: 佐賀
D12: 保 護 者 代 表 者 | H12: ﾌﾘｶﾞﾅ | AB12: =IF(U12="","",DATEDIF(U12,$BJ$4,"y")) | AF12: □ | AG12: 江東区内 | BH12: 永代
F13: □ | G13: 父 | AF13: □ | AG13: 江東区以外 （下部に、R8.1.1時点の住民登録地を番地まで正確にご記入ください。) | BH13: 福住
BH14: 深川
AF15: ⇒ | BH15: 冬木
F16: □ | G16: 母 | BH16: 門前仲町
H17: 電 話 番 号 | N17: ― | S17: ― | X17: 優先連絡先に〇※3 | AF17: 個 人 番 号 | BH17: 富岡
D18: 保 護 者 | H18: ﾌﾘｶﾞﾅ | AB18: =IF(U18="","",DATEDIF(U18,$BJ$4,"y")) | AF18: □ | AG18: 江東区内 | BH18: 牡丹
F19: □ | G19: 父 | AF19: □ | AG19: 江東区以外 （下部に、R8.1.1時点の住民登録地を番地まで正確にご記入ください。) | BH19: 古石場
BH20: 越中島
AF21: ⇒ | BH21: 塩浜
F22: □ | G22: 母 | BH22: 枝川
H23: 電 話 番 号 | N23: ― | S23: ― | X23: 優先連絡先に〇※3 | AF23: 個 人 番 号 | BH23: 豊洲
D24: 申 込 み 児 童 | F24: 申 込 み 児 童 ① | AF24: 申 込 み 児 童 ② | BH24: 東雲
F25: 氏 名 | S25: 性別 | U25: 生 年 月 日 | AB25: クラス年齢 | AF25: 氏 名 | AS25: 性別 | AU25: 生 年 月 日 | BB25: クラス年齢 | BH25: 有明
F26: ﾌﾘｶﾞﾅ | AB26: R9.4.1の年齢 | AF26: ﾌﾘｶﾞﾅ | BB26: R9.4.1の年齢 | BH26: 辰巳
AB27: =IF(U26="","",IF(U26>$BJ$3,"0",DATEDIF(U26,$BJ$3,"y"))) | BB27: =IF(AU26="","",IF(AU26>$BJ$3,"0",DATEDIF(AU26,$BJ$3,"y"))) | BH27: 潮見
BH28: 青海
BH29: 千石
F30: 個 人 番 号 | AF30: 個 人 番 号 | BH30: 石島
F31: 申込み区分 | AF31: 申込み区分 | BH31: 千田
F32: □ | G32: 既に教育・保育給付認定を受けている | AF32: □ | AG32: 既に教育・保育給付認定を受けている | BH32: 海辺
F33: □ | G33: ２号認定を申請する（満３歳以上） | Q33: □ | R33: ３号認定を申請する（満３歳未満） | AF33: □ | AG33: ２号認定を申請する（満３歳以上） | AQ33: □ | AR33: ３号認定を申請する（満３歳未満） | BH33: 扇橋
F34: 申込み児童の現在の主な保育状況（１つだけ選択してください） | AF34: 申込み児童の現在の主な保育状況（１つだけ選択してください） | BH34: 猿江
F35: □ | G35: 父 | I35: □ | J35: 母 | L35: □ | M35: 祖父 | P35: □ | Q35: 祖母 | T35: □ | U35: 知人 | X35: □ | Y35: 親戚 | AF35: □ | AG35: 父 | AI35: □ | AJ35: 母 | AL35: □ | AM35: 祖父 | AP35: □ | AQ35: 祖母 | AT35: □ | AU35: 知人 | AX35: □ | AY35: 親戚 | BH35: 住吉
F36: □ | G36: 認可保育園 | K36: □ | L36: 認証保育所 | P36: □ | Q36: 幼稚園 | T36: □ | U36: その他認可外保育施設 | AF36: □ | AG36: 認可保育園 | AK36: □ | AL36: 認証保育所 | AP36: □ | AQ36: 幼稚園 | AT36: □ | AU36: その他認可外保育施設 | BH36: 毛利
F37: □ | G37: 一時保育 | K37: □ | L37: 居宅訪問型保育 | R37: □ | S37: その他 | W37: （ | AE37: ） | AF37: □ | AG37: 一時保育 | AK37: □ | AL37: 居宅訪問型保育 | AR37: □ | AS37: その他 | AW37: （ | BE37: ） | BH37: 木場
F38: 施設名 | AF38: 施設名 | BH38: 東陽
F39: 所在地 | AF39: 所在地 | BH39: 南砂
F40: 利用開始日 | T40: 年 | Y40: 月 | AD40: 日 | AF40: 利用開始日 | AT40: 年 | AY40: 月 | BD40: 日 | BH40: 新砂
...

Sheet 【R9】入力例
A1: ※ 電子申請で提出する場合は、必ずPDFに変換して添付してください。
C2: 別記第２号様式（第５条関係）
D3: 教育・保育給付認定申請書 兼 令和９年度 保育所等 利用申込書 | AR3: （ | AT3: □ | AW3: 転所 ） | BH3: 清澄 | BI3: 男 | BJ3: 46478 | BL3: 〇
C4: 江東区長 殿 | AR4: 転所を希望の場合、上の□にチェックをお願いします。 転所の必要がなくなった場合には申込みの取下げが必要です。 | BH4: 常盤 | BI4: 女 | BJ4: =TODAY() -> 46283
C5: ①の記載内容のとおり、子どものための教育・保育給付に係る支給認定の申請をします。※1 | BH5: 新大橋
C6: 江東区福祉事務所長 殿 | BH6: 森下
C7: ①及び②の記載内容のとおり、入園のしおりの内容を承諾した上で保育所等の利用申込みをします。 | BH7: 平野
C8: 教育・保育給付認定、保育施設の利用調整及び保育料の決定にあたり、マイナンバーの情報連携に同意します。 | AO8: 申込日 | AQ8: 令和8 | AT8: 年 | AV8: 10 | AY8: 月 | BA8: 13 | BD8: 日 | BH8: 三好
C9: ※申込み児童が３名以上の場合にはコピーしてお使いください。 | BH9: 白河
C10: ① | D10: 現住所 | J10: 江東区 東陽 | R10: 4 | T10: 丁目 | X10: 11 | AA10: 番 | AC10: 28 | AF10: － | AH10: マンション名など | AL10: 江東マンション | AX10: 101 | BB10: 号 | BH10: 高橋
D11: 氏 名 | U11: 生 年 月 日 | AB11: 年 齢 | AF11: 令和8年（2026年）1月1日時点の住民登録地 （正確にご記入ください）※4 | BH11: 佐賀
D12: 保 護 者 代 表 者 | H12: ﾌﾘｶﾞﾅ | J12: コウトウ タロウ | U12: 32509 | AB12: =IF(U12="","",DATEDIF(U12,$BJ$4,"y")) -> 37 | AF12: ☑ | AG12: 江東区内 | BH12: 永代
F13: ☑ | G13: 父 | H13: 江東 太郎 | AF13: □ | AG13: 江東区以外 （下部に、R8.1.1時点の住民登録地を番地まで正確にご記入ください。) | BH13: 福住
BH14: 深川
AF15: ⇒ | BH15: 冬木
F16: □ | G16: 母 | BH16: 門前仲町
H17: 電 話 番 号 | J17: 080 | N17: ― | O17: 1234 | S17: ― | T17: 5678 | X17: 優先連絡先に〇※3 | AF17: 個 人 番 号 | AH17: 1 | AJ17: 2 | AL17: 3 | AN17: 4 | AP17: 5 | AR17: 6 | AT17: 7 | AV17: 8 | AX17: 9 | AZ17: 0 | BB17: 1 | BD17: 2 | BH17: 富岡
D18: 保 護 者 | H18: ﾌﾘｶﾞﾅ | J18: コウトウ ハナコ | U18: 32874 | AB18: =IF(U18="","",DATEDIF(U18,$BJ$4,"y")) -> 36 | AF18: □ | AG18: 江東区内 | BH18: 牡丹
F19: □ | G19: 父 | H19: 江東 花子 | AF19: ☑ | AG19: 江東区以外 （下部に、R8.1.1時点の住民登録地を番地まで正確にご記入ください。) | BH19: 古石場
BH20: 越中島
AF21: ⇒ | AH21: 東京都墨田区押上1丁目１-１ | BH21: 塩浜
F22: ☑ | G22: 母 | BH22: 枝川
H23: 電 話 番 号 | J23: 090 | N23: ― | O23: 2345 | S23: ― | T23: 6789 | X23: 優先連絡先に〇※3 | AD23: 〇 | AF23: 個 人 番 号 | AH23: 2 | AJ23: 3 | AL23: 4 | AN23: 5 | AP23: 6 | AR23: 7 | AT23: 8 | AV23: 9 | AX23: 0 | AZ23: 1 | BB23: 2 | BD23: 3 | BH23: 豊洲
D24: 申 込 み 児 童 | F24: 申 込 み 児 童 ① | AF24: 申 込 み 児 童 ② | BH24: 東雲
F25: 氏 名 | S25: 性別 | U25: 生 年 月 日 | AB25: クラス年齢 | AF25: 氏 名 | AS25: 性別 | AU25: 生 年 月 日 | BB25: クラス年齢 | BH25: 有明
F26: ﾌﾘｶﾞﾅ | H26: コウトウ ジロウ | S26: 男 | U26: 45048 | AB26: R9.4.1の年齢 | AF26: ﾌﾘｶﾞﾅ | AH26: コウトウ サブロウ | AS26: 男 | AU26: 46117 | BB26: R9.4.1の年齢 | BH26: 辰巳
F27: 江東 次郎 | AB27: =IF(U26="","",IF(U26>$BJ$3,"",DATEDIF(U26,$BJ$3,"y"))) -> 3 | AF27: 江東 三郎 | BB27: =IF(AU26="","",IF(AU26>$BJ$3,"",DATEDIF(AU26,$BJ$3,"y"))) -> 0 | BH27: 潮見
BH28: 青海
BH29: 千石
F30: 個 人 番 号 | H30: 1 | J30: 1 | L30: 1 | N30: 1 | P30: 1 | R30: 1 | T30: 1 | V30: 1 | X30: 1 | Z30: 1 | AB30: 1 | AD30: 1 | AF30: 個 人 番 号 | AH30: 2 | AJ30: 2 | AL30: 2 | AN30: 2 | AP30: 2 | AR30: 2 | AT30: 2 | AV30: 2 | AX30: 2 | AZ30: 2 | BB30: 2 | BD30: 2 | BH30: 石島
F31: 申込み区分 | AF31: 申込み区分 | BH31: 千田
F32: □ | G32: 既に教育・保育給付認定を受けている | AF32: □ | AG32: 既に教育・保育給付認定を受けている | BH32: 海辺
F33: ☑ | G33: ２号認定を申請する（満３歳以上） | Q33: □ | R33: ３号認定を申請する（満３歳未満） | AF33: □ | AG33: ２号認定を申請する（満３歳以上） | AQ33: ☑ | AR33: ３号認定を申請する（満３歳未満） | BH33: 扇橋
F34: 申込み児童の現在の主な保育状況（１つだけ選択してください） | AF34: 申込み児童の現在の主な保育状況（１つだけ選択してください） | BH34: 猿江
F35: □ | G35: 父 | I35: □ | J35: 母 | L35: □ | M35: 祖父 | P35: □ | Q35: 祖母 | T35: □ | U35: 知人 | X35: □ | Y35: 親戚 | AF35: □ | AG35: 父 | AI35: ☑ | AJ35: 母 | AL35: □ | AM35: 祖父 | AP35: □ | AQ35: 祖母 | AT35: □ | AU35: 知人 | AX35: □ | AY35: 親戚 | BH35: 住吉
F36: □ | G36: 認可保育園 | K36: □ | L36: 認証保育所 | P36: □ | Q36: 幼稚園 | T36: ☑ | U36: その他認可外保育施設 | AF36: □ | AG36: 認可保育園 | AK36: □ | AL36: 認証保育所 | AP36: □ | AQ36: 幼稚園 | AT36: □ | AU36: その他認可外保育施設 | BH36: 毛利
F37: □ | G37: 一時保育 | K37: □ | L37: 居宅訪問型保育 | R37: □ | S37: その他 | W37: （ | AE37: ） | AF37: □ | AG37: 一時保育 | AK37: □ | AL37: 居宅訪問型保育 | AR37: □ | AS37: その他 | AW37: （ | BE37: ） | BH37: 木場
F38: 施設名 | N38: 江東キッズガーデン | AF38: 施設名 | BH38: 東陽
F39: 所在地 | N39: 東京 | S39: 都 | U39: 江東 | AD39: 区 | AF39: 所在地 | BH39: 南砂
F40: 利用開始日 | N40: 令和6 | T40: 年 | V40: 5 | Y40: 月 | AA40: 1 | AD40: 日 | AF40: 利用開始日 | AT40: 年 | AY40: 月 | BD40: 日 | BH40: 新砂
...

Sheet 施設コード一覧
A1: 施設コード | B1: 施設名 | C1: 施設種別 | D1: 備考
A2: 100010 | B2: 森下 | C2: 区立 | D2: １歳児クラスからの受入れです。 | F2: R9ゆらりん豊４番号削除してます
A3: 100020 | B3: 白河 | C3: 区立
A4: 100030 | B4: 深川一丁目 | C4: 区立 | D4: １歳児クラスからの受入れです。
A5: 100040 | B5: 古石場 | C5: 区立
A6: 100060 | B6: 塩崎 | C6: 区立
A7: 100080 | B7: 東雲 | C7: 区立 | D7: １歳児クラスからの受入れです。
A8: 100090 | B8: 東雲第二 | C8: 区立 | D8: １歳児クラスからの受入れです。
A9: 100120 | B9: 辰巳第三 | C9: 区立
A10: 100140 | B10: 東陽 | C10: 区立
A11: 100150 | B11: 亀戸 | C11: 区立 | D11: １歳児クラスからの受入れです。
A12: 100160 | B12: 亀戸第二 | C12: 区立 | D12: １歳児クラスからの受入れです。
A13: 100170 | B13: 亀戸第三 | C13: 区立
A14: 100190 | B14: わかば | C14: 区立
A15: 100200 | B15: 大島 | C15: 区立 | D15: １歳児クラスからの受入れです。
A16: 100210 | B16: 大島第二 | C16: 区立 | D16: １歳児クラスからの受入れです。
A17: 100220 | B17: 大島第三 | C17: 区立 | D17: １歳児クラスからの受入れです。
A18: 100230 | B18: 大島第四 | C18: 区立 | D18: １歳児クラスからの受入れです。
A19: 100250 | B19: 北砂 | C19: 区立 | D19: １歳児クラスからの受入れです。
A20: 100270 | B20: 小名木川第二 | C20: 区立
A21: 100290 | B21: 亀高第二 | C21: 区立
A22: 100300 | B22: 東砂 | C22: 区立 | D22: １歳児クラスからの受入れです。
A23: 100310 | B23: 東砂第二 | C23: 区立 | D23: １歳児クラスからの受入れです。
A24: 100330 | B24: 東砂第四 | C24: 区立 | D24: １歳児クラスからの受入れです。
A25: 100340 | B25: 南砂第一 | C25: 区立 | D25: １歳児クラスからの受入れです。
A26: 100360 | B26: 南砂第三 | C26: 区立 | D26: １歳児クラスからの受入れです。
A27: 100380 | B27: 南砂第五 | C27: 区立
A28: 100390 | B28: 城東 | C28: 区立
A29: 100400 | B29: 潮見 | C29: 公設民営
A30: 100410 | B30: 猿江 | C30: 公設民営
A31: 100420 | B31: 白河かもめ | C31: 公設民営
A32: 100430 | B32: 豊洲 | C32: 公設民営
A33: 100440 | B33: 毛利 | C33: 公設民営
A34: 100450 | B34: 南砂第二 | C34: 公設民営
A35: 100460 | B35: 塩浜 | C35: 公設民営
A36: 100470 | B36: 千田 | C36: 公設民営
A37: 100480 | B37: 亀戸第四 | C37: 公設民営
A38: 100490 | B38: 南砂さくら | C38: 公設民営
... A46: 200010 | B46: 神愛 | C46: 私立
A47: 200020 | B47: 子供の村 | C47: 私立 | D47: １歳児クラスからの受入れです。
...

Sheet 保育施設定員一覧表
A1: 地区 | B1: 施 設 名 | E1: 施設コード | F1: 所 在 地 | G1: 電 話 | H1: 定 員 | O1: 入園可能年齢 | P1: 開所 | Q1: 小規模 | R1: MAP 番号
H2: 0歳 | I2: 1歳 | J2: 2歳 | K2: 3歳 | L2: 4歳 | M2: 5歳 | N2: 合計 | O2: （月齢） | P2: 時間 | Q2: 連携園
A3: 白 河 | B3: おはよう保育園 清澄白河 | D3: 私 | E3: 200770 | F3: 清澄1-７-12 | G3: 6240-3215 | H3: 6 | I3: 10 | J3: 11 | K3: 11 | L3: 11 | M3: 11 | N3: =H3+I3+J3+K3+L3+M3 -> 60 | O3: 57日～ | P3: B | R3: 1
B4: うぃず清澄白河駅前 | D4: 私 | E4: 200360 | F4: 清澄3-10-5 | G4: 6458-5016 | H4: 6 | I4: 10 | J4: 12 | K4: 14 | L4: 14 | M4: 14 | N4: =H4+I4+J4+K4+L4+M4 -> 70 | O4: 57日～ | P4: DⅡ | R4: 2
B5: ワーカーズコープ 新大橋のびっこ（本園） | D5: 私 | E5: 200910 | F5: 新大橋2-17-9 1階 | G5: 5625-2205 | I5: 8 | J5: 10 | N5: =H5+I5+J5+K5+L5+M5 -> 18 | O5: 1歳～ | P5: B | R5: 3
B6: ワーカーズコープ 新大橋のびっこ（分園） | D6: 私 | E6: 200915 | F6: 新大橋3-16-4 1・2階 | G6: 6240-2670 | K6: 10 | L6: 10 | M6: 10 | N6: =H6+I6+J6+K6+L6+M6 -> 30 | O6: 3歳～ | P6: B | R6: 4
B7: ゆめの森 | D7: 私 | E7: 200680 | F7: 森下1-2-2 | G7: 6666-9088 | H7: 6 | I7: 11 | J7: 11 | K7: 11 | L7: 11 | M7: 11 | N7: =H7+I7+J7+K7+L7+M7 -> 61 | O7: 57日～ | P7: ＢⅡ | R7: 5
B8: 太陽の子 森下三丁目 | D8: 私 | E8: 200940 | F8: 森下3-5-26 | G8: 6659-3621 | H8: 5 | I8: 10 | J8: 11 | K8: 18 | L8: 18 | M8: 18 | N8: =H8+I8+J8+K8+L8+M8 -> 80 | O8: 57日～ | P8: BⅡ | Q8: ① | R8: 6
B9: 神愛 | D9: 私 | E9: 200010 | F9: 森下3-10-7 | G9: 3633-1580 | H9: 9 | I9: 11 | J9: 15 | K9: 15 | L9: 15 | M9: 15 | N9: =H9+I9+J9+K9+L9+M9 -> 80 | O9: 57日～ | P9: A | R9: 7
B10: 森下 | D10: 区 | E10: 100010 | F10: 森下3-14-6 | G10: 3635-1537 | I10: 16 | J10: 20 | K10: 21 | L10: 21 | M10: 21 | N10: =H10+I10+J10+K10+L10+M10 -> 99 | O10: 1歳～ | P10: B | R10: 8
B11: あゆみ | D11: 私 | E11: 200500 | F11: 森下3-18-10 | G11: 5625-2030 | I11: 8 | J11: 8 | K11: 10 | L11: 10 | M11: 10 | N11: =H11+I11+J11+K11+L11+M11 -> 46 | O11: 1歳～ | P11: BⅡ | R11: 9
B12: グローバルキッズ 深川森下園（本園） | D12: 私 | E12: 200370 | F12: 森下4-10-8 2・3階 | G12: 3635-1666 | H12: 4 | I12: 7 | J12: 8 | K12: 17 | L12: 17 | M12: 17 | N12: =H12+I12+J12+K12+L12+M12 -> 70 | O12: 57日～ | P12: BⅡ | R12: 10
B13: グローバルキッズ 深川森下園（分園） | D13: 私 | E13: 200375 | F13: 高橋2-4 | G13: 3632-1755 | H13: 5 | I13: 7 | J13: 8 | N13: =H13+I13+J13+K13+L13+M13 -> 20 | O13: 57日～ | P13: BⅡ | R13: 11
B14: グローバルキッズ森下五丁目園 | D14: 私 | E14: 201120 | F14: 森下5‐11-2 | G14: 6659-6855 | I14: 10 | J14: 12 | K14: 12 | L14: 13 | M14: 13 | N14: =H14+I14+J14+K14+L14+M14 -> 60 | O14: 1歳～ | P14: BⅡ | R14: 12
B15: グローバルキッズ平野園 | D15: 私 | E15: 201130 | F15: 平野1-3-10 | G15: 5809-8872 | I15: 10 | J15: 11 | K15: 12 | L15: 13 | M15: 14 | N15: =H15+I15+J15+K15+L15+M15 -> 60 | O15: 1歳～ | P15: BⅡ | R15: 13
B16: さくらさくみらい 三好 | D16: 私 | E16: 201140 | F16: 三好2-6-11 | G16: 5875-9839 | I16: 10 | J16: 12 | K16: 14 | L16: 14 | M16: 14 | N16: =H16+I16+J16+K16+L16+M16 -> 64 | O16: 1歳～ | P16: BⅡ | R16: 14
B17: アンジェリカ白河 | D17: 私 | E17: 201200 | F17: 三好3-2-11 | G17: 5621-7007 | I17: 10 | J17: 12 | K17: 13 | L17: 13 | M17: 13 | N17: =H17+I17+J17+K17+L17+M17 -> 61 | O17: 1歳～ | P17: BⅡ | R17: 15
B18: 白河 | D18: 区 | E18: 100020 | F18: 白河1-7-1 | G18: 3641-1198 | H18: 10 | I18: 12 | J18: 18 | K18: 19 | L18: 19 | M18: 19 | N18: =H18+I18+J18+K18+L18+M18 -> 97 | O18: 57日～ | P18: B | R18: 16
B19: 白河かもめ | D19: 公 | E19: 100420 | F19: 白河1-5-1-101 | G19: 3643-7671 | H19: 9 | I19: 12 | J19: 14 | K19: 18 | L19: 18 | M19: 18 | N19: =H19+I19+J19+K19+L19+M19 -> 89 | O19: 57日～ | P19: BⅡ | R19: 17
B20: グローバルキッズ白河一丁目園 | D20: 私 | E20: 200780 | F20: 白河1-7-5 1階 | G20: 3641-6767 | H20: 8 | I20: 9 | J20: 9 | K20: 9 | L20: 9 | M20: 9 | N20: =H20+I20+J20+K20+L20+M20 -> 53 | O20: 57日～ | P20: BⅡ | R20: 18
B21: グローバルキッズ清澄白河園 | D21: 私 | E21: 200790 | F21: 白河3-1-11 | G21: 5809-8473 | H21: 6 | I21: 15 | J21: 15 | K21: 15 | L21: 15 | M21: 15 | N21: =H21+I21+J21+K21+L21+M21 -> 81 | O21: 57日～ | P21: BⅡ | R21: 19
B22: 子供の村 | D22: 私 | E22: 200020 | F22: 白河3-3-6 | G22: 3641-1022 | I22: 12 | J22: 12 | K22: 12 | L22: 12 | M22: 12 | N22: =H22+I22+J22+K22+L22+M22 -> 60 | O22: 1歳～ | P22: AⅡ | R22: 20
B23: 小鳩保育園 清澄白河 | D23: 私 | E23: 200550 | F23: 白河3-10-8 1～3階 | G23: 3630-5810 | I23: 10 | J23: 10 | K23: 10 | L23: 10 | M23: 10 | N23: =H23+I23+J23+K23+L23+M23 -> 50 | O23: 1歳～ | P23: DⅡ | Q23: ❶ | R23: 21
B24: まなびの森保育園白河 | D24: 私 | E24: 200800 | F24: 白河4-9-2 | G24: 6240-3043 | I24: 30 | J24: 32 | K24: 36 | L24: 36 | M24: 36 | N24: =H24+I24+J24+K24+L24+M24 -> 170 | O24: 1歳～ | P24: BⅡ | R24: 22
B25: さんいく保育園清澄白河 | D25: 私 | E25: 200290 | F25: 白河4-9-25 2階 | G25: 3643-0319 | H25: 9 | I25: 16 | J25: 20 | K25: 20 | L25: 20 | M25: 20 | N25: =H25+I25+J25+K25+L25+M25 -> 105 | O25: 57日～ | P25: DⅡ | R25: 23
B26: たかもり | D26: 小A | E26: 210120 | F26: 高橋6-4 | G26: 5600-2160 | I26: 6 | J26: 6 | N26: =H26+I26+J26+K26+L26+M26 -> 12 | O26: 1歳～ | P26: E | Q26: ① | R26: 24
A27: 富 岡 | B27: 小鳩保育園 永代 | D27: 私 | E27: 201380 | F27: 永代1-12-5-101 | G27: 6458-8651 | H27: 5 | I27: 7 | J27: 7 | K27: 7 | L27: 7 | M27: 7 | N27: =H27+I27+J27+K27+L27+M27 -> 40 | O27: 57日～ | P27: DⅡ | R27: 25
B28: 深川一丁目 | D28: 区 | E28: 100030 | F28: 深川1-6-15-101 | G28: 3643-4845 | I28: 12 | J28: 16 | K28: 17 | L28: 17 | M28: 18 | N28: =H28+I28+J28+K28+L28+M28 -> 80 | O28: 1歳～ | P28: B | R28: 26
B29: おうち保育園門前仲町 | D29: 小A | E29: 210030 | F29: 深川2-16-10 | G29: 6240-3955 | H29: 4 | I29: 4 | J29: 4 | N29: =H29+I29+J29+K29+L29+M29 -> 12 | O29: 57日～ | P29: Ｂ | Q29: ② | R29: 27
B30: ナーサリールーム ベリーベアー深川冬木 | D30: 私 | E30: 200560 | F30: 冬木1-5 | G30: 5875-8628 | H30: 12 | I30: 28 | J30: 40 | K30: 50 | L30: 50 | M30: 50 | N30: =H30+I30+J30+K30+L30+M30 -> 230 | O30: 57日～ | P30: BⅡ | R30: 28
B31: もんなかほうゆう | D31: 私 | E31: 201210 | F31: 冬木11-17 | G31: 3820-1201 | I31: 5 | J31: 8 | K31: 10 | L31: 11 | M31: 11 | N31: =H31+I31+J31+K31+L31+M31 -> 45 | O31: 1歳～ | P31: DⅡ | R31: 29
B32: まこと | D32: 私 | E32: 200030 | F32: 冬木16-7 | G32: 3641-1428 | H32: 12 | I32: 15 | J32: 18 | K32: 18 | L32: 18 | M32: 18 | N32: =H32+I32+J32+K32+L32+M32 -> 99 | O32: 57日～ | P32: A | R32: 30
B33: 小鳩スマート保育所 冬木 | D33: 小A | E33: 210060 | F33: 冬木22-24 | G33: 6458-5404 | H33: 5 | I33: 7 | J33: 7 | N33: =H33+I33+J33+K33+L33+M33 -> 19 | O33: 57日～ | P33: Ｂ | Q33: ③ | R33: 31
B34: ひろがり保育園・門前仲町 | D34: 私 | E34: 201190 | F34: 富岡1-4-10 1階 | G34: 6458-8322 | H34: 3 | I34: 7 | J34: 7 | K34: 7 | L34: 8 | M34: 8 | N34: =H34+I34+J34+K34+L34+M34 -> 40 | O34: 57日～ | P34: AⅡ | R34: 32
B35: アスクもんなか | D35: 私 | E35: 200210 | F35: 富岡1-14-17 | G35: 5621-7511 | H35: 12 | I35: 15 | J35: 15 | K35: 16 | L35: 16 | M35: 16 | N35: =H35+I35+J35+K35+L35+M35 -> 90 | O35: 57日～ | P35: BⅡ | R35: 33
B36: （仮称）デイジー保育園 江東富岡バイリンガル保育園 | D36: 私 | E36: 201330 | F36: 富岡2-9-11 3階 | G36: 6458-8812 | H36: 6 | I36: 13 | J36: 13 | K36: 15 | L36: 17 | M36: 17 | N36: =H36+I36+J36+K36+L36+M36 -> 81 | O36: 57日～ | P36: BⅡ | R36: 34
B37: 木下の保育園 富岡 | D37: 私 | E37: 200270 | F37: 富岡2-11-6 1階 | G37: 3820-7441 | H37: 6 | I37: 12 | J37: 15 | K37: 15 | L37: 15 | M37: 15 | N37: =H37+I37+J37+K37+L37+M37 -> 78 | O37: 57日～ | P37: BⅡ | R37: 35
B38: さくらさくみらい 富岡 | D38: 私 | E38: 200950 | F38: 富岡2-11-14 | G38: 5809-9239 | H38: 5 | I38: 8 | J38: 10 | K38: 15 | L38: 15 | M38: 15 | N38: =H38+I38+J38+K38+L38+M38 -> 68 | O38: 57日～ | P38: BⅡ | Q38: ② | R38: 36
B39: 古石場 | D39: 区 | E39: 100040 | F39: 古石場2-14-1-102 | G39: 3643-0593 | H39: 15 | I39: 18 | J39: 23 | K39: 23 | L39: 23 | M39: 23 | N39: =H39+I39+J39+K39+L39+M39 -> 125 | O39: 57日～ | P39: B | R39: 37
B40: 太陽の子 越中島 | D40: 私 | E40: 201220 | F40: 越中島2-1-30 4階 | G40: 5809-8239 | I40: 10 | J40: 12 | K40: 14 | L40: 14 | M40: 14 | N40: =H40+I40+J40+K40+L40+M40 -> 64 | O40: 1歳～ | P40: ＢⅡ | R40: 38
...

Sheet プルダウンリスト
A1: チェックボックス
A2: □
A3: ☑
