Workbook

Sheet 【R9】支給認定・利用申込書
A1: ※ 電子申請で提出する場合は、必ずPDFに変換して添付してください。
C2: 別記第２号様式（第５条関係）
D3: 教育・保育給付認定申請書 兼 令和９年度 保育所等 利用申込書 | AR3: （ | AT3: □ | AW3: 転所 ） | BH3: 清澄 | BI3: 男 | BJ3: 46478 | BL3: 〇
C4: 江東区長 殿 | AR4: 転所を希望の場合、上の□にチェックをお願いします。 転所の必要がなくなった場合には申込みの取下げが必要です。 | BH4: 常盤 | BI4: 女 | BJ4: =TODAY() -> 46283
C5: ①の記載内容のとおり、子どものための教育・保育給付に係る支給認定の申請をします。※1 | BH5: 新大橋
C6: 江東区福祉事務所長 殿 | BH6: 森下
C7: ①及び②の記載内容のとおり、入園のしおりの内容を承諾した上で保育所等の利用申込みをします。 | BH7: 平野
C8: 教育・保育給付認定、保育施設の利用調整及び保育料の決定にあたり、マイナンバーの情報連携に同意します。 | AO8: 申込日 | AT8: 年 | AY8: 月 | BD8: 日 | BH8: 三好
C9: ※申込み児童が３名以上の場合にはコピーしてお使いください。 | BH9: 白河
C10: ① | D10: 現住所 | T10: 丁目 | AA10: 番 | AF10: － | AH10: マンション名など | BB10: 号 | BH10: 高橋
D11: 氏 名 | U11: 生 年 月 日 | AB11: 年 齢 | AF11: 令和8年（2026年）1月1日時点の住民登録地 （正確にご記入ください）※4 | BH11: 佐賀
D12: 保 護 者 代 表 者 | H12: ﾌﾘｶﾞﾅ | AB12: =IF(U12="","",DATEDIF(U12,$BJ$4,"y")) | AF12: □ | AG12: 江東区内 | BH12: 永代
F13: □ | G13: 父 | AF13: □ | AG13: 江東区以外 （下部に、R8.1.1時点の住民登録地を番地まで正確にご記入ください。) | BH13: 福住
BH14: 深川
AF15: ⇒ | BH15: 冬木
F16: □ | G16: 母 | BH16: 門前仲町
H17: 電 話 番 号 | N17: ― | S17: ― | X17: 優先連絡先に〇※3 | AF17: 個 人 番 号 | BH17: 富岡
D18: 保 護 者 | H18: ﾌﾘｶﾞﾅ | AB18: =IF(U18="","",DATEDIF(U18,$BJ$4,"y")) | AF18: □ | AG18: 江東区内 | BH18: 牡丹
F19: □ | G19: 父 | AF19: □ | AG19: 江東区以外 （下部に、R8.1.1時点の住民登録地を番地まで正確にご記入ください。) | BH19: 古石場
BH20: 越中島
AF21: ⇒ | BH21: 塩浜
F22: □ | G22: 母 | BH22: 枝川
H23: 電 話 番 号 | N23: ― | S23: ― | X23: 優先連絡先に〇※3 | AF23: 個 人 番 号 | BH23: 豊洲
D24: 申 込 み 児 童 | F24: 申 込 み 児 童 ① | AF24: 申 込 み 児 童 ② | BH24: 東雲
F25: 氏 名 | S25: 性別 | U25: 生 年 月 日 | AB25: クラス年齢 | AF25: 氏 名 | AS25: 性別 | AU25: 生 年 月 日 | BB25: クラス年齢 | BH25: 有明
F26: ﾌﾘｶﾞﾅ | AB26: R9.4.1の年齢 | AF26: ﾌﾘｶﾞﾅ | BB26: R9.4.1の年齢 | BH26: 辰巳
AB27: =IF(U26="","",IF(U26>$BJ$3,"0",DATEDIF(U26,$BJ$3,"y"))) | BB27: =IF(AU26="","",IF(AU26>$BJ$3,"0",DATEDIF(AU26,$BJ$3,"y"))) | BH27: 潮見
BH28: 青海
BH29: 千石
F30: 個 人 番 号 | AF30: 個 人 番 号 | BH30: 石島
F31: 申込み区分 | AF31: 申込み区分 | BH31: 千田
F32: □ | G32: 既に教育・保育給付認定を受けている | AF32: □ | AG32: 既に教育・保育給付認定を受けている | BH32: 海辺
F33: □ | G33: ２号認定を申請する（満３歳以上） | Q33: □ | R33: ３号認定を申請する（満３歳未満） | AF33: □ | AG33: ２号認定を申請する（満３歳以上） | AQ33: □ | AR33: ３号認定を申請する（満３歳未満） | BH33: 扇橋
F34: 申込み児童の現在の主な保育状況（１つだけ選択してください） | AF34: 申込み児童の現在の主な保育状況（１つだけ選択してください） | BH34: 猿江
F35: □ | G35: 父 | I35: □ | J35: 母 | L35: □ | M35: 祖父 | P35: □ | Q35: 祖母 | T35: □ | U35: 知人 | X35: □ | Y35: 親戚 | AF35: □ | AG35: 父 | AI35: □ | AJ35: 母 | AL35: □ | AM35: 祖父 | AP35: □ | AQ35: 祖母 | AT35: □ | AU35: 知人 | AX35: □ | AY35: 親戚 | BH35: 住吉
F36: □ | G36: 認可保育園 | K36: □ | L36: 認証保育所 | P36: □ | Q36: 幼稚園 | T36: □ | U36: その他認可外保育施設 | AF36: □ | AG36: 認可保育園 | AK36: □ | AL36: 認証保育所 | AP36: □ | AQ36: 幼稚園 | AT36: □ | AU36: その他認可外保育施設 | BH36: 毛利
F37: □ | G37: 一時保育 | K37: □ | L37: 居宅訪問型保育 | R37: □ | S37: その他 | W37: （ | AE37: ） | AF37: □ | AG37: 一時保育 | AK37: □ | AL37: 居宅訪問型保育 | AR37: □ | AS37: その他 | AW37: （ | BE37: ） | BH37: 木場
F38: 施設名 | AF38: 施設名 | BH38: 東陽
F39: 所在地 | AF39: 所在地 | BH39: 南砂
F40: 利用開始日 | T40: 年 | Y40: 月 | AD40: 日 | AF40: 利用開始日 | AT40: 年 | AY40: 月 | BD40: 日 | BH40: 新砂
C41: ② | D41: 利 用 希 望 園※5 | H41: 施設コード（6桁） | N41: 施設名（(本園)、(分園)等正確にご記入ください。） | AH41: 施設コード（6桁） | AN41: 施設名（(本園)、(分園)等正確にご記入ください。） | BH41: 亀戸
F42: 第1 希望 | N42: =IF(H42="","",IF(COUNTIF(保育施設定員一覧表!$E:$E,H42)=0,"当該施設コードは存在しません",IF(VLOOKUP(H42,保育施設定員一覧表!$E:$M,4+IF($AB$27="",0,$AB$27),FALSE)=0,IF($AB$27="",0,$AB$27)&"歳児クラス未実施園です",VLOOKUP(H42,CHOOSE({1,2},保育施設定員一覧表!$E:$E,保育施設定員一覧表!$B:$B),2,FALSE)))) | AF42: 第1 希望 | AN42: =IF(AH42="","",IF(COUNTIF(保育施設定員一覧表!$E:$E,AH42)=0,"当該施設コードは存在しません",IF(VLOOKUP(AH42,保育施設定員一覧表!$E:$M,4+IF($BB$27="",0,$BB$27),FALSE)=0,IF($BB$27="",0,$BB$27)&"歳児クラス未実施園です",VLOOKUP(AH42,CHOOSE({1,2},保育施設定員一覧表!$E:$E,保育施設定員一覧表!$B:$B),2,FALSE)))) | BH42: 大島
F43: 第2 希望 | N43: =IF(H43="","",IF(COUNTIF(保育施設定員一覧表!$E:$E,H43)=0,"当該施設コードは存在しません",IF(VLOOKUP(H43,保育施設定員一覧表!$E:$M,4+IF($AB$27="",0,$AB$27),FALSE)=0,IF($AB$27="",0,$AB$27)&"歳児クラス未実施園です",VLOOKUP(H43,CHOOSE({1,2},保育施設定員一覧表!$E:$E,保育施設定員一覧表!$B:$B),2,FALSE)))) | AF43: 第2 希望 | AN43: =IF(AH43="","",IF(COUNTIF(保育施設定員一覧表!$E:$E,AH43)=0,"当該施設コードは存在しません",IF(VLOOKUP(AH43,保育施設定員一覧表!$E:$M,4+IF($BB$27="",0,$BB$27),FALSE)=0,IF($BB$27="",0,$BB$27)&"歳児クラス未実施園です",VLOOKUP(AH43,CHOOSE({1,2},保育施設定員一覧表!$E:$E,保育施設定員一覧表!$B:$B),2,FALSE)))) | BH43: 北砂
F44: 第3 希望 | N44: =IF(H44="","",IF(COUNTIF(保育施設定員一覧表!$E:$E,H44)=0,"当該施設コードは存在しません",IF(VLOOKUP(H44,保育施設定員一覧表!$E:$M,4+IF($AB$27="",0,$AB$27),FALSE)=0,IF($AB$27="",0,$AB$27)&"歳児クラス未実施園です",VLOOKUP(H44,CHOOSE({1,2},保育施設定員一覧表!$E:$E,保育施設定員一覧表!$B:$B),2,FALSE)))) | AF44: 第3 希望 | AN44: =IF(AH44="","",IF(COUNTIF(保育施設定員一覧表!$E:$E,AH44)=0,"当該施設コードは存在しません",IF(VLOOKUP(AH44,保育施設定員一覧表!$E:$M,4+IF($BB$27="",0,$BB$27),FALSE)=0,IF($BB$27="",0,$BB$27)&"歳児クラス未実施園です",VLOOKUP(AH44,CHOOSE({1,2},保育施設定員一覧表!$E:$E,保育施設定員一覧表!$B:$B),2,FALSE)))) | BH44: 東砂
F45: 第4 希望 | N45: =IF(H45="","",IF(COUNTIF(保育施設定員一覧表!$E:$E,H45)=0,"当該施設コードは存在しません",IF(VLOOKUP(H45,保育施設定員一覧表!$E:$M,4+IF($AB$27="",0,$AB$27),FALSE)=0,IF($AB$27="",0,$AB$27)&"歳児クラス未実施園です",VLOOKUP(H45,CHOOSE({1,2},保育施設定員一覧表!$E:$E,保育施設定員一覧表!$B:$B),2,FALSE)))) | AF45: 第4 希望 | AN45: =IF(AH45="","",IF(COUNTIF(保育施設定員一覧表!$E:$E,AH45)=0,"当該施設コードは存在しません",IF(VLOOKUP(AH45,保育施設定員一覧表!$E:$M,4+IF($BB$27="",0,$BB$27),FALSE)=0,IF($BB$27="",0,$BB$27)&"歳児クラス未実施園です",VLOOKUP(AH45,CHOOSE({1,2},保育施設定員一覧表!$E:$E,保育施設定員一覧表!$B:$B),2,FALSE)))) | BH45: 新木場
F46: 第5 希望 | N46: =IF(H46="","",IF(COUNTIF(保育施設定員一覧表!$E:$E,H46)=0,"当該施設コードは存在しません",IF(VLOOKUP(H46,保育施設定員一覧表!$E:$M,4+IF($AB$27="",0,$AB$27),FALSE)=0,IF($AB$27="",0,$AB$27)&"歳児クラス未実施園です",VLOOKUP(H46,CHOOSE({1,2},保育施設定員一覧表!$E:$E,保育施設定員一覧表!$B:$B),2,FALSE)))) | AF46: 第5 希望 | AN46: =IF(AH46="","",IF(COUNTIF(保育施設定員一覧表!$E:$E,AH46)=0,"当該施設コードは存在しません",IF(VLOOKUP(AH46,保育施設定員一覧表!$E:$M,4+IF($BB$27="",0,$BB$27),FALSE)=0,IF($BB$27="",0,$BB$27)&"歳児クラス未実施園です",VLOOKUP(AH46,CHOOSE({1,2},保育施設定員一覧表!$E:$E,保育施設定員一覧表!$B:$B),2,FALSE)))) | BH46: 夢の島
D47: 利 用 開 始 希 望 月 | M47: 令和 | S47: 年 | Y47: 月 | AB47: １日 から | AH47: 同時に２人以上申込む場合※6 | AJ47: 申込み児童全員が入れる場合のみ入所希望 | BH47: 若洲
AJ49: A | AK49: □ | AL49: 同一施設にならなければ入所（転所）しない
D51: 保育短時間認定 を希望する場合 | J51: □ | L51: 保育短時間認定を希望する （９時～１7時） | AJ51: B | AK51: □ | AL51: 希望順位が低い施設でも同一施設になることを優先
J53: ※上記にチェックがない場合は、保育標準時間認定となります。 ※ただし、下の子の育児休業期間中は、原則としてチェックの有無にかかわらず、保育短時間認定となります。 | AJ53: C | AK53: □ | AL53: （別の施設でも）それぞれ希望順位が高い施設を優先
AJ55: 一部の申込み児童だけでも入所希望
C57: 区使用欄 | AJ57: D | AK57: □ | AL57: 希望順位が低い施設でも同一施設になることを優先
AJ59: E | AK59: □ | AL59: （別の施設でも）それぞれ希望順位が高い施設を優先
C60: 電子番号 | J60: 備考 | S60: 担当 | Z60: 受付印
AJ61: 一人が入所できる場合のみ、もう一人の入所を希望
AJ63: F | AK63: □ | AL63: 上の子は一人でも入所希望 下の子は同一施設となる時のみ希望
AJ66: G | AK66: □ | AL66: 下の子は一人でも入所希望 上の子は同一施設となる時のみ希望
C70: ※1 保育の必要性を証明する書類は、不備なく提出されている必要があります。育児休業からの復職予定の方で利用調整の結果、待機となった場合は、
C71: 保護者の就労（復職）を確認できる書類の提出後に、保育の必要性を認定します。
C72: ※2 | D72: ◆今後保育所等に関する通知の宛名は、保護者代表者欄に記入した方となります。
D73: ◆保護者代表者が世帯主以外でも構いませんが、父母のうち一方が江東区民でもう一方が区外在住者の場合は、江東区民を保護者代表者としてください。
D74: ◆以前に子どものための教育・保育給付に係る支給認定の申請をしている、または利用申込みをしており、保護者が同じ場合は、既に登録されている保護者を代表者といたします。
C75: ※3 | D75: 〇が両親のどちらにもついていない場合は、保護者代表者を優先連絡先とします。
C76: ※4 | D76: 記載内容が異なる場合又は税申告の手続きが済んでいない場合は、区市町村民税の確認ができないことから、利用調整において不利になることがあります。
C77: ※5 | D77: 施設コードと施設名が不一致の場合、『施設名欄』に記載された保育園が正しい記載であるものとして選考いたします。
D78: また、児童の対象年齢クラスを実施していない施設を記載した場合、対象外の施設は削除し、下位の園を繰り上げます。
C79: ※6 | D79: F及びGは、３人以上同時申込では選択できません。入園のしおりに、きょうだいで申込む場合の選択方法の説明があります。

Sheet 【R9】入力例
A1: ※ 電子申請で提出する場合は、必ずPDFに変換して添付してください。
C2: 別記第２号様式（第５条関係）
D3: 教育・保育給付認定申請書 兼 令和９年度 保育所等 利用申込書 | AR3: （ | AT3: □ | AW3: 転所 ） | BH3: 清澄 | BI3: 男 | BJ3: 46478 | BL3: 〇
C4: 江東区長 殿 | AR4: 転所を希望の場合、上の□にチェックをお願いします。 転所の必要がなくなった場合には申込みの取下げが必要です。 | BH4: 常盤 | BI4: 女 | BJ4: =TODAY() -> 46283
C5: ①の記載内容のとおり、子どものための教育・保育給付に係る支給認定の申請をします。※1 | BH5: 新大橋
C6: 江東区福祉事務所長 殿 | BH6: 森下
C7: ①及び②の記載内容のとおり、入園のしおりの内容を承諾した上で保育所等の利用申込みをします。 | BH7: 平野
C8: 教育・保育給付認定、保育施設の利用調整及び保育料の決定にあたり、マイナンバーの情報連携に同意します。 | AO8: 申込日 | AQ8: 令和8 | AT8: 年 | AV8: 10 | AY8: 月 | BA8: 13 | BD8: 日 | BH8: 三好
C9: ※申込み児童が３名以上の場合にはコピーしてお使いください。 | BH9: 白河
C10: ① | D10: 現住所 | J10: 江東区 東陽 | R10: 4 | T10: 丁目 | X10: 11 | AA10: 番 | AC10: 28 | AF10: － | AH10: マンション名など | AL10: 江東マンション | AX10: 101 | BB10: 号 | BH10: 高橋
D11: 氏 名 | U11: 生 年 月 日 | AB11: 年 齢 | AF11: 令和8年（2026年）1月1日時点の住民登録地 （正確にご記入ください）※4 | BH11: 佐賀
D12: 保 護 者 代 表 者 | H12: ﾌﾘｶﾞﾅ | J12: コウトウ タロウ | U12: 32509 | AB12: =IF(U12="","",DATEDIF(U12,$BJ$4,"y")) -> 37 | AF12: ☑ | AG12: 江東区内 | BH12: 永代
F13: ☑ | G13: 父 | H13: 江東 太郎 | AF13: □ | AG13: 江東区以外 （下部に、R8.1.1時点の住民登録地を番地まで正確にご記入ください。) | BH13: 福住
BH14: 深川
AF15: ⇒ | BH15: 冬木
F16: □ | G16: 母 | BH16: 門前仲町
H17: 電 話 番 号 | J17: 080 | N17: ― | O17: 1234 | S17: ― | T17: 5678 | X17: 優先連絡先に〇※3 | AF17: 個 人 番 号 | AH17: 1 | AJ17: 2 | AL17: 3 | AN17: 4 | AP17: 5 | AR17: 6 | AT17: 7 | AV17: 8 | AX17: 9 | AZ17: 0 | BB17: 1 | BD17: 2 | BH17: 富岡
D18: 保 護 者 | H18: ﾌﾘｶﾞﾅ | J18: コウトウ ハナコ | U18: 32874 | AB18: =IF(U18="","",DATEDIF(U18,$BJ$4,"y")) -> 36 | AF18: □ | AG18: 江東区内 | BH18: 牡丹
F19: □ | G19: 父 | H19: 江東 花子 | AF19: ☑ | AG19: 江東区以外 （下部に、R8.1.1時点の住民登録地を番地まで正確にご記入ください。) | BH19: 古石場
BH20: 越中島
AF21: ⇒ | AH21: 東京都墨田区押上1丁目１-１ | BH21: 塩浜
F22: ☑ | G22: 母 | BH22: 枝川
H23: 電 話 番 号 | J23: 090 | N23: ― | O23: 2345 | S23: ― | T23: 6789 | X23: 優先連絡先に〇※3 | AD23: 〇 | AF23: 個 人 番 号 | AH23: 2 | AJ23: 3 | AL23: 4 | AN23: 5 | AP23: 6 | AR23: 7 | AT23: 8 | AV23: 9 | AX23: 0 | AZ23: 1 | BB23: 2 | BD23: 3 | BH23: 豊洲
D24: 申 込 み 児 童 | F24: 申 込 み 児 童 ① | AF24: 申 込 み 児 童 ② | BH24: 東雲
F25: 氏 名 | S25: 性別 | U25: 生 年 月 日 | AB25: クラス年齢 | AF25: 氏 名 | AS25: 性別 | AU25: 生 年 月 日 | BB25: クラス年齢 | BH25: 有明
F26: ﾌﾘｶﾞﾅ | H26: コウトウ ジロウ | S26: 男 | U26: 45048 | AB26: R9.4.1の年齢 | AF26: ﾌﾘｶﾞﾅ | AH26: コウトウ サブロウ | AS26: 男 | AU26: 46117 | BB26: R9.4.1の年齢 | BH26: 辰巳
F27: 江東 次郎 | AB27: =IF(U26="","",IF(U26>$BJ$3,"",DATEDIF(U26,$BJ$3,"y"))) -> 3 | AF27: 江東 三郎 | BB27: =IF(AU26="","",IF(AU26>$BJ$3,"",DATEDIF(AU26,$BJ$3,"y"))) -> 0 | BH27: 潮見
BH28: 青海
BH29: 千石
F30: 個 人 番 号 | H30: 1 | J30: 1 | L30: 1 | N30: 1 | P30: 1 | R30: 1 | T30: 1 | V30: 1 | X30: 1 | Z30: 1 | AB30: 1 | AD30: 1 | AF30: 個 人 番 号 | AH30: 2 | AJ30: 2 | AL30: 2 | AN30: 2 | AP30: 2 | AR30: 2 | AT30: 2 | AV30: 2 | AX30: 2 | AZ30: 2 | BB30: 2 | BD30: 2 | BH30: 石島
F31: 申込み区分 | AF31: 申込み区分 | BH31: 千田
F32: □ | G32: 既に教育・保育給付認定を受けている | AF32: □ | AG32: 既に教育・保育給付認定を受けている | BH32: 海辺
F33: ☑ | G33: ２号認定を申請する（満３歳以上） | Q33: □ | R33: ３号認定を申請する（満３歳未満） | AF33: □ | AG33: ２号認定を申請する（満３歳以上） | AQ33: ☑ | AR33: ３号認定を申請する（満３歳未満） | BH33: 扇橋
F34: 申込み児童の現在の主な保育状況（１つだけ選択してください） | AF34: 申込み児童の現在の主な保育状況（１つだけ選択してください） | BH34: 猿江
F35: □ | G35: 父 | I35: □ | J35: 母 | L35: □ | M35: 祖父 | P35: □ | Q35: 祖母 | T35: □ | U35: 知人 | X35: □ | Y35: 親戚 | AF35: □ | AG35: 父 | AI35: ☑ | AJ35: 母 | AL35: □ | AM35: 祖父 | AP35: □ | AQ35: 祖母 | AT35: □ | AU35: 知人 | AX35: □ | AY35: 親戚 | BH35: 住吉
F36: □ | G36: 認可保育園 | K36: □ | L36: 認証保育所 | P36: □ | Q36: 幼稚園 | T36: ☑ | U36: その他認可外保育施設 | AF36: □ | AG36: 認可保育園 | AK36: □ | AL36: 認証保育所 | AP36: □ | AQ36: 幼稚園 | AT36: □ | AU36: その他認可外保育施設 | BH36: 毛利
F37: □ | G37: 一時保育 | K37: □ | L37: 居宅訪問型保育 | R37: □ | S37: その他 | W37: （ | AE37: ） | AF37: □ | AG37: 一時保育 | AK37: □ | AL37: 居宅訪問型保育 | AR37: □ | AS37: その他 | AW37: （ | BE37: ） | BH37: 木場
F38: 施設名 | N38: 江東キッズガーデン | AF38: 施設名 | BH38: 東陽
F39: 所在地 | N39: 東京 | S39: 都 | U39: 江東 | AD39: 区 | AF39: 所在地 | BH39: 南砂
F40: 利用開始日 | N40: 令和6 | T40: 年 | V40: 5 | Y40: 月 | AA40: 1 | AD40: 日 | AF40: 利用開始日 | AT40: 年 | AY40: 月 | BD40: 日 | BH40: 新砂
C41: ② | D41: 利 用 希 望 園※5 | H41: 施設コード（6桁） | N41: 施設名（(本園)、(分園)等正確にご記入ください。） | AH41: 施設コード（6桁） | AN41: 施設名（(本園)、(分園)等正確にご記入ください。） | BH41: 亀戸
F42: 第1 希望 | H42: 100140 | N42: =IF(H42="","",IF($AB$27="","生年月日を入力してください",IFERROR(IF(VLOOKUP(H42,保育施設定員一覧表!$E:$M,4+$AB$27,FALSE)=0,$AB$27&"歳児クラス未実施園です",_xlfn.XLOOKUP(H42,保育施設定員一覧表!$E:$E,保育施設定員一覧表!$B:$B)),"当該施設コードは存在しません"))) -> 東陽 | AF42: 第1 希望 | AH42: 100140 | AN42: =IF(AH42="","",IF($BB$27="","生年月日を入力してください",IFERROR(IF(VLOOKUP(AH42,保育施設定員一覧表!$E:$M,4+$BB$27,FALSE)=0,$BB$27&"歳児クラス未実施園です",_xlfn.XLOOKUP(AH42,保育施設定員一覧表!$E:$E,保育施設定員一覧表!$B:$B)),"当該施設コードは存在しません"))) -> 東陽 | BH42: 大島
F43: 第2 希望 | H43: 100040 | N43: =IF(H43="","",IF($AB$27="","生年月日を入力してください",IFERROR(IF(VLOOKUP(H43,保育施設定員一覧表!$E:$M,4+$AB$27,FALSE)=0,$AB$27&"歳児クラス未実施園です",_xlfn.XLOOKUP(H43,保育施設定員一覧表!$E:$E,保育施設定員一覧表!$B:$B)),"当該施設コードは存在しません"))) -> 古石場 | AF43: 第2 希望 | AH43: 100040 | AN43: =IF(AH43="","",IF($BB$27="","生年月日を入力してください",IFERROR(IF(VLOOKUP(AH43,保育施設定員一覧表!$E:$M,4+$BB$27,FALSE)=0,$BB$27&"歳児クラス未実施園です",_xlfn.XLOOKUP(AH43,保育施設定員一覧表!$E:$E,保育施設定員一覧表!$B:$B)),"当該施設コードは存在しません"))) -> 古石場 | BH43: 北砂
F44: 第3 希望 | H44: 100030 | N44: =IF(H44="","",IF($AB$27="","生年月日を入力してください",IFERROR(IF(VLOOKUP(H44,保育施設定員一覧表!$E:$M,4+$AB$27,FALSE)=0,$AB$27&"歳児クラス未実施園です",_xlfn.XLOOKUP(H44,保育施設定員一覧表!$E:$E,保育施設定員一覧表!$B:$B)),"当該施設コードは存在しません"))) -> 深川一丁目 | AF44: 第3 希望 | AN44: =IF(AH44="","",IF($BB$27="","生年月日を入力してください",IFERROR(IF(VLOOKUP(AH44,保育施設定員一覧表!$E:$M,4+$BB$27,FALSE)=0,$BB$27&"歳児クラス未実施園です",_xlfn.XLOOKUP(AH44,保育施設定員一覧表!$E:$E,保育施設定員一覧表!$B:$B)),"当該施設コードは存在しません"))) | BH44: 東砂
F45: 第4 希望 | N45: =IF(H45="","",IF($AB$27="","生年月日を入力してください",IFERROR(IF(VLOOKUP(H45,保育施設定員一覧表!$E:$M,4+$AB$27,FALSE)=0,$AB$27&"歳児クラス未実施園です",_xlfn.XLOOKUP(H45,保育施設定員一覧表!$E:$E,保育施設定員一覧表!$B:$B)),"当該施設コードは存在しません"))) | AF45: 第4 希望 | AN45: =IF(AH45="","",IF($BB$27="","生年月日を入力してください",IFERROR(IF(VLOOKUP(AH45,保育施設定員一覧表!$E:$M,4+$BB$27,FALSE)=0,$BB$27&"歳児クラス未実施園です",_xlfn.XLOOKUP(AH45,保育施設定員一覧表!$E:$E,保育施設定員一覧表!$B:$B)),"当該施設コードは存在しません"))) | BH45: 新木場
F46: 第5 希望 | N46: =IF(H46="","",IF($AB$27="","生年月日を入力してください",IFERROR(IF(VLOOKUP(H46,保育施設定員一覧表!$E:$M,4+$AB$27,FALSE)=0,$AB$27&"歳児クラス未実施園です",_xlfn.XLOOKUP(H46,保育施設定員一覧表!$E:$E,保育施設定員一覧表!$B:$B)),"当該施設コードは存在しません"))) | AF46: 第5 希望 | AN46: =IF(AH46="","",IF($BB$27="","生年月日を入力してください",IFERROR(IF(VLOOKUP(AH46,保育施設定員一覧表!$E:$M,4+$BB$27,FALSE)=0,$BB$27&"歳児クラス未実施園です",_xlfn.XLOOKUP(AH46,保育施設定員一覧表!$E:$E,保育施設定員一覧表!$B:$B)),"当該施設コードは存在しません"))) | BH46: 夢の島
D47: 利 用 開 始 希 望 月 | M47: 令和 | P47: 9 | S47: 年 | V47: 4 | Y47: 月 | AB47: １日 から | AH47: 同時に２人以上申込む場合※6 | AJ47: 申込み児童全員が入れる場合のみ入所希望 | BH47: 若洲
AJ49: A | AK49: □ | AL49: 同一施設にならなければ入所（転所）しない
D51: 保育短時間認定 を希望する場合 | J51: □ | L51: 保育短時間認定を希望する （９時～１7時） | AJ51: B | AK51: ☑ | AL51: 希望順位が低い施設でも同一施設になることを優先
J53: ※上記にチェックがない場合は、保育標準時間認定となります。 ※ただし、下の子の育児休業期間中は、原則としてチェックの有無にかかわらず、保育短時間認定となります。 | AJ53: C | AK53: □ | AL53: （別の施設でも）それぞれ希望順位が高い施設を優先
AJ55: 一部の申込み児童だけでも入所希望
C57: 区使用欄 | AJ57: D | AK57: □ | AL57: 希望順位が低い施設でも同一施設になることを優先
AJ59: E | AK59: □ | AL59: （別の施設でも）それぞれ希望順位が高い施設を優先
C60: 電子番号 | J60: 備考 | S60: 担当 | Z60: 受付印
AJ61: 一人が入所できる場合のみ、もう一人の入所を希望
AJ63: F | AK63: □ | AL63: 上の子は一人でも入所希望 下の子は同一施設となる時のみ希望
AJ66: G | AK66: □ | AL66: 下の子は一人でも入所希望 上の子は同一施設となる時のみ希望
C70: ※1 保育の必要性を証明する書類は、不備なく提出されている必要があります。育児休業からの復職予定の方で利用調整の結果、待機となった場合は、
C71: 保護者の就労（復職）を確認できる書類の提出後に、保育の必要性を認定します。
C72: ※2 | D72: ◆今後保育所等に関する通知の宛名は、保護者代表者欄に記入した方となります。
D73: ◆保護者代表者が世帯主以外でも構いませんが、父母のうち一方が江東区民でもう一方が区外在住者の場合は、江東区民を保護者代表者としてください。
D74: ◆以前に子どものための教育・保育給付に係る支給認定の申請をしている、または利用申込みをしており、保護者が同じ場合は、既に登録されている保護者を代表者といたします。
C75: ※3 | D75: 〇が両親のどちらにもついていない場合は、保護者代表者を優先連絡先とします。
C76: ※4 | D76: 記載内容が異なる場合又は税申告の手続きが済んでいない場合は、区市町村民税の確認ができないことから、利用調整において不利になることがあります。
C77: ※5 | D77: 施設コードと施設名が不一致の場合、『施設名欄』に記載された保育園が正しい記載であるものとして選考いたします。
D78: また、児童の対象年齢クラスを実施していない施設を記載した場合、対象外の施設は削除し、下位の園を繰り上げます。
C79: ※6 | D79: F及びGは、３人以上同時申込では選択できません。入園のしおりに、きょうだいで申込む場合の選択方法の説明があります。

Sheet 施設コード一覧
A1: 施設コード | B1: 施設名 | C1: 施設種別 | D1: 備考
A2: 100010 | B2: 森下 | C2: 区立 | D2: １歳児クラスからの受入れです。 | F2: R9ゆらりん豊４番号削除してます
A3: 100020 | B3: 白河 | C3: 区立
A4: 100030 | B4: 深川一丁目 | C4: 区立 | D4: １歳児クラスからの受入れです。
A5: 100040 | B5: 古石場 | C5: 区立
A6: 100060 | B6: 塩崎 | C6: 区立
A7: 100080 | B7: 東雲 | C7: 区立 | D7: １歳児クラスからの受入れです。
A8: 100090 | B8: 東雲第二 | C8: 区立 | D8: １歳児クラスからの受入れです。
A9: 100120 | B9: 辰巳第三 | C9: 区立
A10: 100140 | B10: 東陽 | C10: 区立
A11: 100150 | B11: 亀戸 | C11: 区立 | D11: １歳児クラスからの受入れです。
A12: 100160 | B12: 亀戸第二 | C12: 区立 | D12: １歳児クラスからの受入れです。
A13: 100170 | B13: 亀戸第三 | C13: 区立
A14: 100190 | B14: わかば | C14: 区立
A15: 100200 | B15: 大島 | C15: 区立 | D15: １歳児クラスからの受入れです。
A16: 100210 | B16: 大島第二 | C16: 区立 | D16: １歳児クラスからの受入れです。
A17: 100220 | B17: 大島第三 | C17: 区立 | D17: １歳児クラスからの受入れです。
A18: 100230 | B18: 大島第四 | C18: 区立 | D18: １歳児クラスからの受入れです。
A19: 100250 | B19: 北砂 | C19: 区立 | D19: １歳児クラスからの受入れです。
A20: 100270 | B20: 小名木川第二 | C20: 区立
A21: 100290 | B21: 亀高第二 | C21: 区立
A22: 100300 | B22: 東砂 | C22: 区立 | D22: １歳児クラスからの受入れです。
A23: 100310 | B23: 東砂第二 | C23: 区立 | D23: １歳児クラスからの受入れです。
A24: 100330 | B24: 東砂第四 | C24: 区立 | D24: １歳児クラスからの受入れです。
A25: 100340 | B25: 南砂第一 | C25: 区立 | D25: １歳児クラスからの受入れです。
A26: 100360 | B26: 南砂第三 | C26: 区立 | D26: １歳児クラスからの受入れです。
A27: 100380 | B27: 南砂第五 | C27: 区立
A28: 100390 | B28: 城東 | C28: 区立
A29: 100400 | B29: 潮見 | C29: 公設民営
A30: 100410 | B30: 猿江 | C30: 公設民営
A31: 100420 | B31: 白河かもめ | C31: 公設民営
A32: 100430 | B32: 豊洲 | C32: 公設民営
A33: 100440 | B33: 毛利 | C33: 公設民営
A34: 100450 | B34: 南砂第二 | C34: 公設民営
A35: 100460 | B35: 塩浜 | C35: 公設民営
A36: 100470 | B36: 千田 | C36: 公設民営
A37: 100480 | B37: 亀戸第四 | C37: 公設民営
A38: 100490 | B38: 南砂さくら | C38: 公設民営
... A46: 200010 | B46: 神愛 | C46: 私立
A47: 200020 | B47: 子供の村 | C47: 私立 | D47: １歳児クラスからの受入れです。
A48: 200030 | B48: まこと | C48: 私立
A49: 200040 | B49: 深川愛隣 | C49: 私立 | D49: １歳児クラスからの受入れです。
A50: 200050 | B50: めばえ | C50: 私立
A51: 200060 | B51: アゼリヤ | C51: 私立 | D51: 生後４か月からの受入れです。
A52: 200070 | B52: 亀戸浅間 | C52: 私立 | D52: 生後４か月からの受入れです。
A53: 200080 | B53: 砂町 | C53: 私立
A54: 200090 | B54: 砂町友愛園 | C54: 私立
A55: 200100 | B55: ともしび | C55: 私立
A56: 200110 | B56: 南砂町 | C56: 私立
A57: 200120 | B57: 八幡 | C57: 私立 | D57: １歳児クラスからの受入れです。
A58: 200130 | B58: YMCAキャナルコート | C58: 私立
A59: 200140 | B59: YMCAオリーブ | C59: 私立
A60: 200150 | B60: ひまわりキッズガーデン東雲 | C60: 私立
A61: 200160 | B61: 蓮美幼児学園とよすナーサリー | C61: 私立
A62: 200170 | B62: ひまわりキッズガーデン豊洲 | C62: 私立
B63: ミアヘルサ保育園ゆらりん豊四（受入れ停止中） | C63: 私立
A64: 200190 | B64: MIWAシンフォニア | C64: 私立
A65: 200200 | B65: 陽だまり | C65: 私立
A66: 200210 | B66: アスクもんなか | C66: 私立
A67: 200220 | B67: 愛隣シャローム | C67: 私立
A68: 200230 | B68: 蓮美幼児学園第２とよすナーサリー | C68: 私立 | D68: １歳児クラスからの受入れです。
A69: 200240 | B69: ひまわりキッズガーデン有明 | C69: 私立 | D69: １歳児クラスからの受入れです。
A70: 200250 | B70: 亀戸こころ（本園） | C70: 私立
A71: 200255 | B71: 亀戸こころ（分園） | C71: 私立
A72: 200260 | B72: ナーサリールームベリーベアー東雲 | C72: 私立
A73: 200270 | B73: 木下の保育園 富岡 | C73: 私立
A74: 200280 | B74: アンジェリカ亀戸 | C74: 私立
A75: 200290 | B75: さんいく保育園清澄白河 | C75: 私立
A76: 200300 | B76: ひまわりキッズガーデン有明の森 | C76: 私立
A77: 200310 | B77: コビープリスクールかめいど | C77: 私立
A78: 200320 | B78: 花と鳥 | C78: 私立
A79: 200330 | B79: 東雲キャナルコート ナーサリースクール | C79: 私立
A80: 200340 | B80: ミアヘルサ保育園ひびき豊洲 | C80: 私立
A81: 200350 | B81: スマイスセレソン豊洲 | C81: 私立 | D81: 旧：キッズポケット豊洲
A82: 200360 | B82: うぃず清澄白河駅前 | C82: 私立
A83: 200370 | B83: グローバルキッズ深川森下園（本園） | C83: 私立
A84: 200375 | B84: グローバルキッズ深川森下園（分園） | C84: 私立
A85: 200380 | B85: ほっぺるランド東陽町 | C85: 私立
A86: 200390 | B86: テンダーラビング保育園東陽 | C86: 私立
A87: 200400 | B87: 江東湾岸サテライトナーサリースクール（本園） | C87: 私立 | D87: 有明キャンパス
A88: 200405 | B88: 江東湾岸サテライトナーサリースクール（分園） | C88: 私立 | D88: 豊洲キャンパス
A89: 200410 | B89: マミー保育園西大島 | C89: 私立 | D89: １歳児クラスからの受入れです。
A90: 200420 | B90: 聖華しおかぜ | C90: 私立
A91: 200430 | B91: 小学館アカデミーしんとよす | C91: 私立
A92: 200440 | B92: さんいく保育園有明 | C92: 私立
A93: 200450 | B93: 江東湾岸サテライトスマートナーサリースクール（本園） | C93: 私立 | D93: テニスの森キャンパス
A94: 200455 | B94: 江東湾岸サテライトスマートナーサリースクール（分園） | C94: 私立 | D94: 東雲キャンパス
A95: 200460 | B95: グレース | C95: 私立
A96: 200470 | B96: グローバルキッズ亀戸園 | C96: 私立
A97: 200480 | B97: かがやき | C97: 私立
A98: 200490 | B98: ルーチェ保育園 南砂 | C98: 私立
A99: 200500 | B99: あゆみ | C99: 私立 | D99: １歳児クラスからの受入れです。
A100: 200510 | B100: アイグラン保育園豊洲 | C100: 私立
A101: 200520 | B101: アスクバイリンガル保育園豊洲 | C101: 私立 | D101: 旧：アスク豊洲
A102: 200530 | B102: まなびの森保育園亀戸 | C102: 私立
A103: 200540 | B103: 江東亀戸サテライト グローバルキッズ竪川園（本園） | C103: 私立
A104: 200545 | B104: 江東亀戸サテライト グローバルキッズ竪川園（分園） | C104: 私立 | D104: １歳児クラスからの受入れです。
A105: 200550 | B105: 小鳩保育園 清澄白河 | C105: 私立 | D105: １歳児クラスからの受入れです。
A106: 200560 | B106: ナーサリールームベリーベアー深川冬木 | C106: 私立
A107: 200570 | B107: TKチルドレンズファーム豊洲校 | C107: 私立
...

Sheet 保育施設定員一覧表
A1: 地区 | B1: 施 設 名 | E1: 施設コード | F1: 所 在 地 | G1: 電 話 | H1: 定 員 | O1: 入園可能年齢 | P1: 開所 | Q1: 小規模 | R1: MAP 番号
H2: 0歳 | I2: 1歳 | J2: 2歳 | K2: 3歳 | L2: 4歳 | M2: 5歳 | N2: 合計 | O2: （月齢） | P2: 時間 | Q2: 連携園
A3: 白 河 | B3: おはよう保育園 清澄白河 | D3: 私 | E3: 200770 | F3: 清澄1-７-12 | G3: 6240-3215 | H3: 6 | I3: 10 | J3: 11 | K3: 11 | L3: 11 | M3: 11 | N3: =H3+I3+J3+K3+L3+M3 -> 60 | O3: 57日～ | P3: B | R3: 1
B4: うぃず清澄白河駅前 | D4: 私 | E4: 200360 | F4: 清澄3-10-5 | G4: 6458-5016 | H4: 6 | I4: 10 | J4: 12 | K4: 14 | L4: 14 | M4: 14 | N4: =H4+I4+J4+K4+L4+M4 -> 70 | O4: 57日～ | P4: DⅡ | R4: 2
B5: ワーカーズコープ 新大橋のびっこ（本園） | D5: 私 | E5: 200910 | F5: 新大橋2-17-9 1階 | G5: 5625-2205 | I5: 8 | J5: 10 | N5: =H5+I5+J5+K5+L5+M5 -> 18 | O5: 1歳～ | P5: B | R5: 3
B6: ワーカーズコープ 新大橋のびっこ（分園） | D6: 私 | E6: 200915 | F6: 新大橋3-16-4 1・2階 | G6: 6240-2670 | K6: 10 | L6: 10 | M6: 10 | N6: =H6+I6+J6+K6+L6+M6 -> 30 | O6: 3歳～ | P6: B | R6: 4
B7: ゆめの森 | D7: 私 | E7: 200680 | F7: 森下1-2-2 | G7: 6666-9088 | H7: 6 | I7: 11 | J7: 11 | K7: 11 | L7: 11 | M7: 11 | N7: =H7+I7+J7+K7+L7+M7 -> 61 | O7: 57日～ | P7: ＢⅡ | R7: 5
B8: 太陽の子 森下三丁目 | D8: 私 | E8: 200940 | F8: 森下3-5-26 | G8: 6659-3621 | H8: 5 | I8: 10 | J8: 11 | K8: 18 | L8: 18 | M8: 18 | N8: =H8+I8+J8+K8+L8+M8 -> 80 | O8: 57日～ | P8: BⅡ | Q8: ① | R8: 6
B9: 神愛 | D9: 私 | E9: 200010 | F9: 森下3-10-7 | G9: 3633-1580 | H9: 9 | I9: 11 | J9: 15 | K9: 15 | L9: 15 | M9: 15 | N9: =H9+I9+J9+K9+L9+M9 -> 80 | O9: 57日～ | P9: A | R9: 7
B10: 森下 | D10: 区 | E10: 100010 | F10: 森下3-14-6 | G10: 3635-1537 | I10: 16 | J10: 20 | K10: 21 | L10: 21 | M10: 21 | N10: =H10+I10+J10+K10+L10+M10 -> 99 | O10: 1歳～ | P10: B | R10: 8
B11: あゆみ | D11: 私 | E11: 200500 | F11: 森下3-18-10 | G11: 5625-2030 | I11: 8 | J11: 8 | K11: 10 | L11: 10 | M11: 10 | N11: =H11+I11+J11+K11+L11+M11 -> 46 | O11: 1歳～ | P11: BⅡ | R11: 9
B12: グローバルキッズ 深川森下園（本園） | D12: 私 | E12: 200370 | F12: 森下4-10-8 2・3階 | G12: 3635-1666 | H12: 4 | I12: 7 | J12: 8 | K12: 17 | L12: 17 | M12: 17 | N12: =H12+I12+J12+K12+L12+M12 -> 70 | O12: 57日～ | P12: BⅡ | R12: 10
B13: グローバルキッズ 深川森下園（分園） | D13: 私 | E13: 200375 | F13: 高橋2-4 | G13: 3632-1755 | H13: 5 | I13: 7 | J13: 8 | N13: =H13+I13+J13+K13+L13+M13 -> 20 | O13: 57日～ | P13: BⅡ | R13: 11
B14: グローバルキッズ森下五丁目園 | D14: 私 | E14: 201120 | F14: 森下5‐11-2 | G14: 6659-6855 | I14: 10 | J14: 12 | K14: 12 | L14: 13 | M14: 13 | N14: =H14+I14+J14+K14+L14+M14 -> 60 | O14: 1歳～ | P14: BⅡ | R14: 12
B15: グローバルキッズ平野園 | D15: 私 | E15: 201130 | F15: 平野1-3-10 | G15: 5809-8872 | I15: 10 | J15: 11 | K15: 12 | L15: 13 | M15: 14 | N15: =H15+I15+J15+K15+L15+M15 -> 60 | O15: 1歳～ | P15: BⅡ | R15: 13
B16: さくらさくみらい 三好 | D16: 私 | E16: 201140 | F16: 三好2-6-11 | G16: 5875-9839 | I16: 10 | J16: 12 | K16: 14 | L16: 14 | M16: 14 | N16: =H16+I16+J16+K16+L16+M16 -> 64 | O16: 1歳～ | P16: BⅡ | R16: 14
B17: アンジェリカ白河 | D17: 私 | E17: 201200 | F17: 三好3-2-11 | G17: 5621-7007 | I17: 10 | J17: 12 | K17: 13 | L17: 13 | M17: 13 | N17: =H17+I17+J17+K17+L17+M17 -> 61 | O17: 1歳～ | P17: BⅡ | R17: 15
B18: 白河 | D18: 区 | E18: 100020 | F18: 白河1-7-1 | G18: 3641-1198 | H18: 10 | I18: 12 | J18: 18 | K18: 19 | L18: 19 | M18: 19 | N18: =H18+I18+J18+K18+L18+M18 -> 97 | O18: 57日～ | P18: B | R18: 16
B19: 白河かもめ | D19: 公 | E19: 100420 | F19: 白河1-5-1-101 | G19: 3643-7671 | H19: 9 | I19: 12 | J19: 14 | K19: 18 | L19: 18 | M19: 18 | N19: =H19+I19+J19+K19+L19+M19 -> 89 | O19: 57日～ | P19: BⅡ | R19: 17
B20: グローバルキッズ白河一丁目園 | D20: 私 | E20: 200780 | F20: 白河1-7-5 1階 | G20: 3641-6767 | H20: 8 | I20: 9 | J20: 9 | K20: 9 | L20: 9 | M20: 9 | N20: =H20+I20+J20+K20+L20+M20 -> 53 | O20: 57日～ | P20: BⅡ | R20: 18
B21: グローバルキッズ清澄白河園 | D21: 私 | E21: 200790 | F21: 白河3-1-11 | G21: 5809-8473 | H21: 6 | I21: 15 | J21: 15 | K21: 15 | L21: 15 | M21: 15 | N21: =H21+I21+J21+K21+L21+M21 -> 81 | O21: 57日～ | P21: BⅡ | R21: 19
B22: 子供の村 | D22: 私 | E22: 200020 | F22: 白河3-3-6 | G22: 3641-1022 | I22: 12 | J22: 12 | K22: 12 | L22: 12 | M22: 12 | N22: =H22+I22+J22+K22+L22+M22 -> 60 | O22: 1歳～ | P22: AⅡ | R22: 20
B23: 小鳩保育園 清澄白河 | D23: 私 | E23: 200550 | F23: 白河3-10-8 1～3階 | G23: 3630-5810 | I23: 10 | J23: 10 | K23: 10 | L23: 10 | M23: 10 | N23: =H23+I23+J23+K23+L23+M23 -> 50 | O23: 1歳～ | P23: DⅡ | Q23: ❶ | R23: 21
B24: まなびの森保育園白河 | D24: 私 | E24: 200800 | F24: 白河4-9-2 | G24: 6240-3043 | I24: 30 | J24: 32 | K24: 36 | L24: 36 | M24: 36 | N24: =H24+I24+J24+K24+L24+M24 -> 170 | O24: 1歳～ | P24: BⅡ | R24: 22
B25: さんいく保育園清澄白河 | D25: 私 | E25: 200290 | F25: 白河4-9-25 2階 | G25: 3643-0319 | H25: 9 | I25: 16 | J25: 20 | K25: 20 | L25: 20 | M25: 20 | N25: =H25+I25+J25+K25+L25+M25 -> 105 | O25: 57日～ | P25: DⅡ | R25: 23
B26: たかもり | D26: 小A | E26: 210120 | F26: 高橋6-4 | G26: 5600-2160 | I26: 6 | J26: 6 | N26: =H26+I26+J26+K26+L26+M26 -> 12 | O26: 1歳～ | P26: E | Q26: ① | R26: 24
A27: 富 岡 | B27: 小鳩保育園 永代 | D27: 私 | E27: 201380 | F27: 永代1-12-5-101 | G27: 6458-8651 | H27: 5 | I27: 7 | J27: 7 | K27: 7 | L27: 7 | M27: 7 | N27: =H27+I27+J27+K27+L27+M27 -> 40 | O27: 57日～ | P27: DⅡ | R27: 25
B28: 深川一丁目 | D28: 区 | E28: 100030 | F28: 深川1-6-15-101 | G28: 3643-4845 | I28: 12 | J28: 16 | K28: 17 | L28: 17 | M28: 18 | N28: =H28+I28+J28+K28+L28+M28 -> 80 | O28: 1歳～ | P28: B | R28: 26
B29: おうち保育園門前仲町 | D29: 小A | E29: 210030 | F29: 深川2-16-10 | G29: 6240-3955 | H29: 4 | I29: 4 | J29: 4 | N29: =H29+I29+J29+K29+L29+M29 -> 12 | O29: 57日～ | P29: Ｂ | Q29: ② | R29: 27
B30: ナーサリールーム ベリーベアー深川冬木 | D30: 私 | E30: 200560 | F30: 冬木1-5 | G30: 5875-8628 | H30: 12 | I30: 28 | J30: 40 | K30: 50 | L30: 50 | M30: 50 | N30: =H30+I30+J30+K30+L30+M30 -> 230 | O30: 57日～ | P30: BⅡ | R30: 28
B31: もんなかほうゆう | D31: 私 | E31: 201210 | F31: 冬木11-17 | G31: 3820-1201 | I31: 5 | J31: 8 | K31: 10 | L31: 11 | M31: 11 | N31: =H31+I31+J31+K31+L31+M31 -> 45 | O31: 1歳～ | P31: DⅡ | R31: 29
B32: まこと | D32: 私 | E32: 200030 | F32: 冬木16-7 | G32: 3641-1428 | H32: 12 | I32: 15 | J32: 18 | K32: 18 | L32: 18 | M32: 18 | N32: =H32+I32+J32+K32+L32+M32 -> 99 | O32: 57日～ | P32: A | R32: 30
B33: 小鳩スマート保育所 冬木 | D33: 小A | E33: 210060 | F33: 冬木22-24 | G33: 6458-5404 | H33: 5 | I33: 7 | J33: 7 | N33: =H33+I33+J33+K33+L33+M33 -> 19 | O33: 57日～ | P33: Ｂ | Q33: ③ | R33: 31
B34: ひろがり保育園・門前仲町 | D34: 私 | E34: 201190 | F34: 富岡1-4-10 1階 | G34: 6458-8322 | H34: 3 | I34: 7 | J34: 7 | K34: 7 | L34: 8 | M34: 8 | N34: =H34+I34+J34+K34+L34+M34 -> 40 | O34: 57日～ | P34: AⅡ | R34: 32
B35: アスクもんなか | D35: 私 | E35: 200210 | F35: 富岡1-14-17 | G35: 5621-7511 | H35: 12 | I35: 15 | J35: 15 | K35: 16 | L35: 16 | M35: 16 | N35: =H35+I35+J35+K35+L35+M35 -> 90 | O35: 57日～ | P35: BⅡ | R35: 33
B36: （仮称）デイジー保育園 江東富岡バイリンガル保育園 | D36: 私 | E36: 201330 | F36: 富岡2-9-11 3階 | G36: 6458-8812 | H36: 6 | I36: 13 | J36: 13 | K36: 15 | L36: 17 | M36: 17 | N36: =H36+I36+J36+K36+L36+M36 -> 81 | O36: 57日～ | P36: BⅡ | R36: 34
B37: 木下の保育園 富岡 | D37: 私 | E37: 200270 | F37: 富岡2-11-6 1階 | G37: 3820-7441 | H37: 6 | I37: 12 | J37: 15 | K37: 15 | L37: 15 | M37: 15 | N37: =H37+I37+J37+K37+L37+M37 -> 78 | O37: 57日～ | P37: BⅡ | R37: 35
B38: さくらさくみらい 富岡 | D38: 私 | E38: 200950 | F38: 富岡2-11-14 | G38: 5809-9239 | H38: 5 | I38: 8 | J38: 10 | K38: 15 | L38: 15 | M38: 15 | N38: =H38+I38+J38+K38+L38+M38 -> 68 | O38: 57日～ | P38: BⅡ | Q38: ② | R38: 36
B39: 古石場 | D39: 区 | E39: 100040 | F39: 古石場2-14-1-102 | G39: 3643-0593 | H39: 15 | I39: 18 | J39: 23 | K39: 23 | L39: 23 | M39: 23 | N39: =H39+I39+J39+K39+L39+M39 -> 125 | O39: 57日～ | P39: B | R39: 37
B40: 太陽の子 越中島 | D40: 私 | E40: 201220 | F40: 越中島2-1-30 4階 | G40: 5809-8239 | I40: 10 | J40: 12 | K40: 14 | L40: 14 | M40: 14 | N40: =H40+I40+J40+K40+L40+M40 -> 64 | O40: 1歳～ | P40: ＢⅡ | R40: 38
B41: ポピンズナーサリースクール越中島 | D41: 私 | E41: 200810 | F41: 越中島2-1-32 1階 | G41: 5875-8030 | I41: 10 | J41: 10 | K41: 10 | L41: 10 | M41: 10 | N41: =H41+I41+J41+K41+L41+M41 -> 50 | O41: 1歳～ | P41: BⅡ | R41: 39
A42: 小松橋 | B42: チェリッシュナーサリースクール木場 | D42: 私 | E42: 201260 | F42: 千石1-3-26 | G42: 6666-6505 | I42: 15 | J42: 17 | K42: 19 | L42: 19 | M42: 19 | N42: =H42+I42+J42+K42+L42+M42 -> 89 | O42: 1歳～ | P42: Ｂ | Q42: ❷ | R42: 40
B43: 小規模保育室ラッキーココナッツ | D43: 小A | E43: 210090 | F43: 千石2-8-4 1階 | G43: 3699-0808 | H43: 5 | I43: 5 | J43: 6 | N43: =H43+I43+J43+K43+L43+M43 -> 16 | O43: 57日～ | P43: F | Q43: ➌ | R43: 41
B44: キッズスマイル江東千石 | D44: 私 | E44: 201170 | F44: 千石2-10-6 2階 | G44: 6666-7846 | I44: 10 | J44: 12 | K44: 15 | L44: 15 | M44: 15 | N44: =H44+I44+J44+K44+L44+M44 -> 67 | O44: 1歳～ | P44: BⅡ | R44: 42
B45: 文化教養学園 | D45: 地 | E45: 206010 | F45: 石島6-7 | G45: 3647-0166 | H45: 9 | I45: 10 | J45: 10 | K45: 15 | L45: 15 | M45: 15 | N45: =H45+I45+J45+K45+L45+M45 -> 74 | O45: 57日～ | P45: DⅡ | R45: 43
B46: AIAI NURSERY 千田 | D46: 私 | E46: 201370 | F46: 千田18-8 | G46: 6458-7937 | I46: 12 | J46: 14 | K46: 14 | L46: 14 | M46: 14 | N46: =H46+I46+J46+K46+L46+M46 -> 68 | O46: 1歳～ | P46: BⅡ | R46: 44
B47: 千田 | D47: 公 | E47: 100470 | F47: 千田22-8 | G47: 5683-1266 | H47: 6 | I47: 15 | J47: 18 | K47: 20 | L47: 20 | M47: 21 | N47: =H47+I47+J47+K47+L47+M47 -> 100 | O47: 57日～ | P47: BⅡ | Q47: ❹ | R47: 45
B48: 保育園ミルキーウェイ清澄白河園 | D48: 私 | E48: 201270 | F48: 扇橋1-15-3 1階 | G48: 6666-6766 | I48: 8 | J48: 10 | K48: 11 | L48: 11 | M48: 11 | N48: =H48+I48+J48+K48+L48+M48 -> 51 | O48: 1歳～ | P48: BⅡ | R48: 46
B49: マミー保育園扇橋 | D49: 私 | E49: 200960 | F49: 扇橋1-21-5 1･2階 | G49: 6666-2173 | I49: 16 | J49: 16 | K49: 16 | L49: 16 | M49: 16 | N49: =H49+I49+J49+K49+L49+M49 -> 80 | O49: 1歳～ | P49: BⅡ | R49: 47
B50: まかな | D50: 小A | E50: 210080 | F50: 扇橋2-24-1 | G50: 6810-5508 | I50: 9 | J50: 10 | N50: =H50+I50+J50+K50+L50+M50 -> 19 | O50: １歳～ | P50: B | Q50: ❹ | R50: 48
B51: アソシエ住吉扇橋 | D51: 私 | E51: 201280 | F51: 扇橋3-15-2 | G51: 6666-6811 | I51: 10 | J51: 12 | K51: 15 | L51: 15 | M51: 15 | N51: =H51+I51+J51+K51+L51+M51 -> 67 | O51: 1歳～ | P51: AⅡ | Q51: ➌ | R51: 49
B52: 猿江 | D52: 公 | E52: 100410 | F52: 猿江1-8-10 | G52: 3631-7315 | H52: 6 | I52: 7 | J52: 9 | K52: 13 | L52: 13 | M52: 13 | N52: =H52+I52+J52+K52+L52+M52 -> 61 | O52: 57日～ | P52: B | R52: 50
B53: キッズスマイル江東猿江 | D53: 私 | E53: 200820 | F53: 猿江2-6-3 | G53: 6240-2181 | H53: 6 | I53: 10 | J53: 14 | K53: 14 | L53: 14 | M53: 14 | N53: =H53+I53+J53+K53+L53+M53 -> 72 | O53: 57日～ | P53: BⅡ | R53: 51
B54: スマイルクラブナーサリー住吉 | D54: 小A | E54: 210050 | F54: 猿江2-16-5 １階 | G54: 5625-3600 | H54: 6 | I54: 6 | J54: 7 | N54: =H54+I54+J54+K54+L54+M54 -> 19 | O54: 57日～ | P54: E | Q54: ❺ | R54: 52
B55: グローバルキッズ住吉園 | D55: 私 | E55: 200600 | F55: 住吉1-7-8 | G55: 3631-8011 | H55: 6 | I55: 7 | J55: 10 | K55: 13 | L55: 13 | M55: 13 | N55: =H55+I55+J55+K55+L55+M55 -> 62 | O55: 57日～ | P55: BⅡ | R55: 53
B56: キッズフィールド住吉駅前園 | D56: 小A | E56: 210170 | F56: 住吉2-8-9 １階 | G56: 5669-0355 | H56: 3 | I56: 4 | J56: 5 | N56: =H56+I56+J56+K56+L56+M56 -> 12 | O56: 57日～ | P56: D | Q56: ❷ | R56: 54
B57: めばえ | D57: 私 | E57: 200050 | F57: 住吉2-25-9 | G57: 3634-0166 | H57: 9 | I57: 20 | J57: 22 | K57: 24 | L57: 25 | M57: 25 | N57: =H57+I57+J57+K57+L57+M57 -> 125 | O57: 57日～ | P57: A | R57: 55
B58: 毛利 | D58: 公 | E58: 100440 | F58: 毛利2-1-14 | G58: 3631-0692 | H58: 9 | I58: 12 | J58: 15 | K58: 24 | L58: 27 | M58: 30 | N58: =H58+I58+J58+K58+L58+M58 -> 117 | O58: 57日～ | P58: BⅡ | R58: 56
A59: 東 陽 | B59: アゼリヤ | D59: 私 | E59: 200060 | F59: 木場1-3-5 | G59: 3645-0484 | H59: 6 | I59: 9 | J59: 13 | K59: 13 | L59: 13 | M59: 16 | N59: =H59+I59+J59+K59+L59+M59 -> 70 | O59: 4か月～ | P59: A | R59: 57
B60: スマイルクラブナーサリー木場 | D60: 私 | E60: 200610 | F60: 木場1-4-5 2階 | G60: 5665-5033 | H60: 6 | I60: 8 | J60: 8 | K60: 8 | L60: 8 | M60: 8 | N60: =H60+I60+J60+K60+L60+M60 -> 46 | O60: 57日～ | P60: B | Q60: ❺ | R60: 58
B61: さくらさくみらい 木場 | D61: 私 | E61: 201290 | F61: 木場1-4-7 | G61: 6659-8039 | I61: 10 | J61: 12 | K61: 14 | L61: 14 | M61: 14 | N61: =H61+I61+J61+K61+L61+M61 -> 64 | O61: 1歳～ | P61: BⅡ | R61: 59
B62: タムスわんぱく保育園木場 | D62: 私 | E62: 201180 | F62: 木場2-13-17 | G62: 5809-8510 | I62: 10 | J62: 12 | K62: 20 | L62: 20 | M62: 20 | N62: =H62+I62+J62+K62+L62+M62 -> 82 | O62: 1歳～ | P62: AⅡ | Q62: ③ | R62: 60
B63: MIWA木場公園 | D63: 私 | E63: 200700 | F63: 木場4-1-65 | G63: 5646-8355 | H63: 6 | I63: 20 | J63: 26 | K63: 26 | L63: 26 | M63: 26 | N63: =H63+I63+J63+K63+L63+M63 -> 130 | O63: 57日～ | P63: BⅡ | R63: 61
B64: グレース | D64: 私 | E64: 200460 | F64: 木場5-8-3 1～3階 | G64: 5245-6006 | H64: 6 | I64: 12 | J64: 12 | K64: 12 | L64: 12 | M64: 12 | N64: =H64+I64+J64+K64+L64+M64 -> 66 | O64: 57日～ | P64: D | R64: 62
B65: スターチス（分園） | D65: 私 | E65: 200625 | F65: 木場5-11-15 3階 | G65: 5809-9969 | K65: 15 | L65: 15 | M65: 15 | N65: =H65+I65+J65+K65+L65+M65 -> 45 | O65: 3歳～ | P65: B | R65: 63
B66: スターチス（本園） | D66: 私 | E66: 200620 | F66: 東陽3-27-32 3階 | G66: 6666-3883 | H66: 6 | I66: 15 | J66: 15 | N66: =H66+I66+J66+K66+L66+M66 -> 36 | O66: 4か月～ | P66: B | R66: 64
B67: マミー保育園東陽町 | D67: 私 | E67: 200630 | F67: 東陽2-2-14 | G67: 3699-8201 | I67: 17 | J67: 23 | K67: 27 | L67: 27 | M67: 27 | N67: =H67+I67+J67+K67+L67+M67 -> 121 | O67: 1歳～ | P67: BⅡ | R67: 65
B68: さくらさくみらい 東陽二丁目 | D68: 私 | E68: 200970 | F68: 東陽2-4-8 1･2階 | G68: 6666-5739 | I68: 5 | J68: 7 | K68: 12 | L68: 12 | M68: 12 | N68: =H68+I68+J68+K68+L68+M68 -> 48 | O68: 1歳～ | P68: BⅡ | R68: 66
B69: さくらさくみらい 新東陽 | D69: 私 | E69: 201300 | F69: 東陽2-4-39 1・2階 | G69: 6666-4039 | H69: 6 | I69: 10 | J69: 12 | K69: 15 | L69: 15 | M69: 15 | N69: =H69+I69+J69+K69+L69+M69 -> 73 | O69: 57日～ | P69: BⅡ | R69: 67
B70: ほっぺるランド東陽町 | D70: 私 | E70: 200380 | F70: 東陽2-4-46 2階 | G70: 5635-6608 | H70: 6 | I70: 16 | J70: 18 | K70: 20 | L70: 20 | M70: 20 | N70: =H70+I70+J70+K70+L70+M70 -> 100 | O70: 57日～ | P70: BⅡ | R70: 68
B71: 東陽 | D71: 区 | E71: 100140 | F71: 東陽3-22-1-101 | G71: 3647-8458 | H71: 10 | I71: 14 | J71: 17 | K71: 24 | L71: 27 | M71: 30 | N71: =H71+I71+J71+K71+L71+M71 -> 122 | O71: 57日～ | P71: B | R71: 69
B72: テンダーラビング保育園東陽 | D72: 私 | E72: 200390 | F72: 東陽3-23-21 1階 | G72: 6458-7631 | H72: 6 | I72: 16 | J72: 18 | K72: 20 | L72: 20 | M72: 20 | N72: =H72+I72+J72+K72+L72+M72 -> 100 | O72: 57日～ | P72: BⅡ | R72: 70
B73: さくらさくみらい 東陽町 | D73: 私 | E73: 200980 | F73: 東陽5-28-8 1･2階 | G73: 6666-6539 | H73: 6 | I73: 9 | J73: 9 | K73: 14 | L73: 14 | M73: 14 | N73: =H73+I73+J73+K73+L73+M73 -> 66 | O73: 57日～ | P73: BⅡ | Q73: ④ | R73: 71
B74: Kid's Patio 江東おひさま園 | D74: 小A | E74: 220010 | F74: 東陽5-31-21 1階 | G74: 5606-8785 | H74: 4 | I74: 4 | J74: 4 | N74: =H74+I74+J74+K74+L74+M74 -> 12 | O74: 57日～ | P74: F | Q74: ④ | R74: 72
A75: 豊 洲 ① | B75: 塩浜 | D75: 公 | E75: 100460 | F75: 塩浜1-3-10 | G75: 3647-0480 | H75: 11 | I75: 17 | J75: 24 | K75: 25 | L75: 26 | M75: 26 | N75: =H75+I75+J75+K75+L75+M75 -> 129 | O75: 57日～ | P75: BⅡ | R75: 73
B76: 聖華しおかぜ | D76: 私 | E76: 200420 | F76: 塩浜1-4-46 | G76: 5632-8771 | H76: 6 | I76: 20 | J76: 20 | K76: 24 | L76: 24 | M76: 24 | N76: =H76+I76+J76+K76+L76+M76 -> 118 | O76: 57日～ | P76: B | R76: 74
B77: あーと&えいごが好きになる保育園 しおはま | D77: 私 | E77: 200830 | F77: 塩浜2-6-2 | G77: 6666-5444 | H77: 6 | I77: 14 | J77: 15 | K77: 15 | L77: 15 | M77: 15 | N77: =H77+I77+J77+K77+L77+M77 -> 80 | O77: 57日～ | P77: BⅡ | R77: 75
B78: 塩崎 | D78: 区 | E78: 100060 | F78: 塩浜2-6-3 | G78: 3645-6014 | H78: 11 | I78: 20 | J78: 24 | K78: 24 | L78: 24 | M78: 24 | N78: =H78+I78+J78+K78+L78+M78 -> 127 | O78: 57日～ | P78: B | R78: 76
B79: キッズスマイル江東塩浜 | D79: 私 | E79: 201150 | F79: 塩浜2-14-5 | G79: 6458-7637 | I79: 15 | J79: 18 | K79: 20 | L79: 20 | M79: 20 | N79: =H79+I79+J79+K79+L79+M79 -> 93 | O79: 1歳～ | P79: BⅡ | R79: 77
B80: 豊洲枝川さくらんぼ | D80: 私 | E80: 201230 | F80: 枝川1-2-9 | G80: 6458-4850 | H80: 6 | I80: 16 | J80: 18 | K80: 20 | L80: 20 | M80: 20 | N80: =H80+I80+J80+K80+L80+M80 -> 100 | O80: 4か月～ | P80: DⅡ | R80: 78
B81: 深川愛隣 | D81: 私 | E81: 200040 | F81: 枝川2-25-10 | G81: 3645-9900 | I81: 15 | J81: 18 | K81: 19 | L81: 20 | M81: 20 | N81: =H81+I81+J81+K81+L81+M81 -> 92 | O81: 1歳～ | P81: A | R81: 79
B82: 愛隣シャローム | D82: 私 | E82: 200220 | F82: 枝川3-6-15 | G82: 3645-5858 | H82: 9 | I82: 15 | J82: 18 | K82: 19 | L82: 19 | M82: 19 | N82: =H82+I82+J82+K82+L82+M82 -> 99 | O82: 57日～ | P82: AⅡ | R82: 80
B83: MIWAシンフォニア | D83: 私 | E83: 200190 | F83: 豊洲2-5-3-101 | G83: 5547-0083 | H83: 9 | I83: 18 | J83: 23 | K83: 23 | L83: 23 | M83: 24 | N83: =H83+I83+J83+K83+L83+M83 -> 120 | O83: 57日～ | P83: AⅡ | R83: 81
B84: ミアヘルサ保育園ゆらりん豊洲フロント | D84: 私 | E84: 201340 | F84: 豊洲3-2-20-106 | G84: 6204-2588 | H84: 3 | I84: 9 | J84: 12 | K84: 12 | L84: 12 | M84: 12 | N84: =H84+I84+J84+K84+L84+M84 -> 60 | O84: 57日～ | P84: BⅡ | R84: 82
B85: TKチルドレンズファーム豊洲校 | D85: 私 | E85: 200570 | F85: 豊洲3-4-8 2階 | G85: 6802-7081 | H85: 6 | I85: 8 | J85: 9 | K85: 9 | L85: 9 | M85: 9 | N85: =H85+I85+J85+K85+L85+M85 -> 50 | O85: 57日～ | P85: BⅡ | R85: 83
B86: TKチルドレンズファーム豊洲第二校 | D86: 私 | E86: 200690 | F86: 豊洲3-4-8 2階 | G86: 5547-4431 | H86: 6 | I86: 7 | J86: 8 | K86: 8 | L86: 8 | M86: 8 | N86: =H86+I86+J86+K86+L86+M86 -> 45 | O86: 57日～ | P86: BⅡ | R86: 84
B87: 蓮美幼児学園とよすナーサリー | D87: 私 | E87: 200160 | F87: 豊洲3-5-21-102 | G87: 3534-4152 | H87: 12 | I87: 20 | J87: 24 | K87: 26 | L87: 26 | M87: 26 | N87: =H87+I87+J87+K87+L87+M87 -> 134 | O87: 57日～ | P87: DⅡ | R87: 85
B88: 蓮美幼児学園第２とよすナーサリー | D88: 私 | E88: 200230 | F88: 豊洲3-5-3 1階 | G88: 3532-4152 | I88: 15 | J88: 18 | K88: 18 | L88: 18 | M88: 18 | N88: =H88+I88+J88+K88+L88+M88 -> 87 | O88: 1歳～ | P88: DⅡ | R88: 86
B89: アスクバイリンガル保育園 豊洲 | D89: 私 | E89: 200520 | F89: 豊洲3-6-8 1階 | G89: 5560-0220 | H89: 6 | I89: 10 | J89: 11 | K89: 11 | L89: 11 | M89: 11 | N89: =H89+I89+J89+K89+L89+M89 -> 60 | O89: 57日～ | P89: BⅡ | R89: 87
B90: さくらさくみらい 豊洲 | D90: 私 | E90: 200990 | F90: 豊洲4-1-8 1～4階 | G90: 6204-9239 | H90: 6 | I90: 8 | J90: 10 | K90: 15 | L90: 15 | M90: 15 | N90: =H90+I90+J90+K90+L90+M90 -> 69 | O90: 57日～ | P90: BⅡ | Q90: ⑤ | R90: 88
B91: ミアヘルサ保育園ひびき豊洲 | D91: 私 | E91: 200340 | F91: 豊洲4-1-24 1～5階 | G91: 6204-9771 | H91: 9 | I91: 20 | J91: 22 | K91: 23 | L91: 23 | M91: 23 | N91: =H91+I91+J91+K91+L91+M91 -> 120 | O91: 57日～ | P91: BⅡ | R91: 89
B92: 豊洲 | D92: 公 | E92: 100430 | F92: 豊洲4-5-8 | G92: 3533-5427 | H92: 10 | I92: 16 | J92: 20 | K92: 26 | L92: 29 | M92: 29 | N92: =H92+I92+J92+K92+L92+M92 -> 130 | O92: 57日～ | P92: BⅡ | R92: 90
B93: ミアヘルサ保育園ゆらりん豊四 | D93: 私 | F93: 豊洲4-10-1-106 | G93: 3532-1044 | O93: 57日～ | P93: BⅡ | R93: 91
B94: おうち保育園とよす | D94: 小A | E94: 210010 | F94: 豊洲4-10-4-106 | G94: 5534-8824 | H94: 4 | I94: 4 | J94: 4 | N94: =H94+I94+J94+K94+L94+M94 -> 12 | O94: 57日～ | P94: Ｂ | Q94: ⑤ | R94: 92
B95: ひまわりキッズガーデン豊洲 | D95: 私 | E95: 200170 | F95: 豊洲4-11-20-138 | G95: 3532-4131 | H95: 6 | I95: 13 | J95: 18 | K95: 18 | L95: 18 | M95: 18 | N95: =H95+I95+J95+K95+L95+M95 -> 91 | O95: 57日～ | P95: AⅡ | R95: 93
B96: グローバルキッズ豊洲園 | D96: 私 | E96: 201240 | F96: 豊洲5-1-26 | G96: 6910-1077 | H96: 6 | I96: 40 | J96: 42 | K96: 44 | L96: 44 | M96: 44 | N96: =H96+I96+J96+K96+L96+M96 -> 220 | O96: 57日～ | P96: ＢⅡ | R96: 94
B97: 江東湾岸サテライト ナーサリースクール（分園） 豊洲キャンパス | D97: 私 | E97: 200405 | F97: 豊洲5-5-1-101 | G97: 5547-4288 | H97: 9 | I97: 30 | N97: =H97+I97+J97+K97+L97+M97 -> 39 | O97: 57日～ | P97: DⅡ | R97: 95
B98: 江東湾岸サテライト ナーサリースクール（本園） 有明キャンパス | D98: 私 | E98: 200400 | F98: 有明3-7-26 3階 | G98: 6457-2707 | H98: 6 | I98: 15 | J98: 45 | K98: 50 | L98: 50 | M98: 50 | N98: =H98+I98+J98+K98+L98+M98 -> 216 | O98: 57日～ | P98: DⅡ | R98: 96
B99: スマイスセレソン豊洲 | D99: 私 | E99: 200350 | F99: 豊洲5-5-25 | G99: 6204-2040 | H99: 9 | I99: 13 | J99: 13 | K99: 14 | L99: 14 | M99: 14 | N99: =H99+I99+J99+K99+L99+M99 -> 77 | O99: 57日～ | P99: BⅡ | R99: 97
B100: グローバルキッズ豊洲五丁目 | D100: 私 | E100: 200580 | F100: 豊洲5-6-29 | G100: 5166-9888 | I100: 16 | J100: 18 | K100: 19 | L100: 19 | M100: 19 | N100: =H100+I100+J100+K100+L100+M100 -> 91 | O100: 1歳～ | P100: BⅡ | R100: 98
...

Sheet プルダウンリスト
A1: チェックボックス
A2: □
A3: ☑
