Workbook

Sheet 【R9】保育所等利用申込の希望変更届
B1: ※ 電子申請で提出する場合は、必ずPDFに変換して添付してください。
B2: 令和９年度 保育所等利用申込の希望変更届
AC3: 令和 | AG3: 年 | AJ3: 月 | AM3: 日 | AP3: 清澄
B4: 住所 | G4: 江東区 | S4: 丁目 | W4: 番 | AM4: 号 | AP4: 新大橋
B5: フリガナ | X5: 電話番号 | AP5: 森下
B6: 保護者氏名 | AP6: 平野
B7: フリガナ | X7: 生年月日 | AP7: 三好
B8: 申込児童氏名 | AO8: 46478 | AP8: 白河
AH9: =IF(AC7="","",IF(AC7>$AO$8,0,DATEDIF(AC7,$AO$8,"y"))) | AJ9: 歳児クラス | AP9: 高橋
B10: 現在の 第１希望園 | G10: 施設コード | L10: 施設名 | X10: ※1歳児クラス以上で区立認可保育園の月極延長保育 を希望する場合は、「延長保育利用申込書」を提 出してください。 | AP10: 佐賀
L11: =IF(G11="","",VLOOKUP(G11,施設コード一覧!A:B,2,)) | AP11: 永代
AP12: 福住
B13: 利用申込中の保育所等の入園（転園）希望について、下記のとおり変更したいので届け出します。 （以下の希望する内容に☑をしてください。） | AP13: 深川
AP15: 冬木
AP16: 木場
G17: □ | I17: 「希望園」の変更（以下に変更後の希望園をご記載ください） | AP17: 門前仲町
AP18: 富岡
D19: 月から | G19: □ | I19: 「育児休業延長も許容できる」⇒「直ちに復職を希望する」 | AP19: 牡丹
I20: ※ 加点や優先順位のための資料を追加提出される場合は、本変更届に添付してください。 | AP20: 古石場
AP21: 越中島
D22: 施設コード（6桁） | J22: 施設名（（本園）・（分園）等正確にご記入ください） | Y22: 同時に２人以上申込みしている場合は、下記より選択してください。 下記にチェックがない場合は、前回と同一の希望とします。 | AP22: 塩浜
B23: 第１ 希望 | J23: =IF(D23="","",IF(COUNTIF(保育施設定員一覧表!$E:$E,D23)=0,"当該施設コードは存在しません",IF(VLOOKUP(D23,保育施設定員一覧表!$E:$M,4+IF($AH$9="",0,$AH$9),FALSE)=0,IF($AH$9="",0,$AH$9)&"歳児クラス未実施園です",VLOOKUP(D23,CHOOSE({1,2},保育施設定員一覧表!$E:$E,保育施設定員一覧表!$B:$B),2,FALSE)))) | AP23: 枝川
AP24: 豊洲
AP25: 東雲
B26: 第２希望 | J26: =IF(D26="","",IF(COUNTIF(保育施設定員一覧表!$E:$E,D26)=0,"当該施設コードは存在しません",IF(VLOOKUP(D26,保育施設定員一覧表!$E:$M,4+IF($AH$9="",0,$AH$9),FALSE)=0,IF($AH$9="",0,$AH$9)&"歳児クラス未実施園です",VLOOKUP(D26,CHOOSE({1,2},保育施設定員一覧表!$E:$E,保育施設定員一覧表!$B:$B),2,FALSE)))) | Y26: 申込み児童全員が入れる場合のみ入園希望 | AP26: 有明
Y27: A | Z27: □ | AA27: 同一施設にならなければ入所しない | AP27: 辰巳
Y28: B | Z28: □ | AA28: 希望順位が低い施設でも同一施設になることを優先 | AP28: 潮見
B29: 第３希望 | J29: =IF(D29="","",IF(COUNTIF(保育施設定員一覧表!$E:$E,D29)=0,"当該施設コードは存在しません",IF(VLOOKUP(D29,保育施設定員一覧表!$E:$M,4+IF($AH$9="",0,$AH$9),FALSE)=0,IF($AH$9="",0,$AH$9)&"歳児クラス未実施園です",VLOOKUP(D29,CHOOSE({1,2},保育施設定員一覧表!$E:$E,保育施設定員一覧表!$B:$B),2,FALSE)))) | Y29: C | Z29: □ | AA29: （別の施設でも）それぞれ希望順位が高い施設を優先 | AP29: 青海
Y30: 一部の申込み児童だけでも入園希望 | AP30: 千石
Y31: D | Z31: □ | AA31: 希望順位が低い施設でも同一施設になることを希望 | AP31: 石島
B32: 第4希望 | J32: =IF(D32="","",IF(COUNTIF(保育施設定員一覧表!$E:$E,D32)=0,"当該施設コードは存在しません",IF(VLOOKUP(D32,保育施設定員一覧表!$E:$M,4+IF($AH$9="",0,$AH$9),FALSE)=0,IF($AH$9="",0,$AH$9)&"歳児クラス未実施園です",VLOOKUP(D32,CHOOSE({1,2},保育施設定員一覧表!$E:$E,保育施設定員一覧表!$B:$B),2,FALSE)))) | Y32: E | Z32: □ | AA32: （別の施設でも）それぞれ希望順位が高い施設を優先 | AP32: 千田
Y33: 一人が入所できる場合のみ、もう一人の入所を希望 | AP33: 海辺
Y34: F | Z34: □ | AA34: 上の子は一人でも入所希望 下の子は同一施設となる時のみ希望 | AP34: 扇橋
B35: 第5希望 | J35: =IF(D35="","",IF(COUNTIF(保育施設定員一覧表!$E:$E,D35)=0,"当該施設コードは存在しません",IF(VLOOKUP(D35,保育施設定員一覧表!$E:$M,4+IF($AH$9="",0,$AH$9),FALSE)=0,IF($AH$9="",0,$AH$9)&"歳児クラス未実施園です",VLOOKUP(D35,CHOOSE({1,2},保育施設定員一覧表!$E:$E,保育施設定員一覧表!$B:$B),2,FALSE)))) | AP35: 猿江
Y36: G | Z36: □ | AA36: 下の子は一人でも入所希望 上の子は同一施設となる時のみ希望 | AP36: 住吉
AP37: 毛利
B38: 受付者 | K38: 変更入力 | T38: 受付時間 | X38: 時 分 | AP38: 東陽
AP39: 南砂
T40: 備考 | AP40: 新砂
B41: - - - - - - - - - - - - - - - - - - - - - - - - キ リ ト リ(事前にキリトリのうえ上部のみご提出ください。) - - - - - - - - - - - - - - - - - - - - - - - - | AP41: 亀戸
...

Sheet 施設コード一覧
A1: 施設コード | B1: 施設名 | C1: 施設種別 | D1: 備考
A2: 100010 | B2: 森下 | C2: 区立 | D2: １歳児クラスからの受入れです。
A3: 100020 | B3: 白河 | C3: 区立
A4: 100030 | B4: 深川一丁目 | C4: 区立 | D4: １歳児クラスからの受入れです。
A5: 100040 | B5: 古石場 | C5: 区立
A6: 100060 | B6: 塩崎 | C6: 区立
A7: 100080 | B7: 東雲 | C7: 区立 | D7: １歳児クラスからの受入れです。
A8: 100090 | B8: 東雲第二 | C8: 区立 | D8: １歳児クラスからの受入れです。
A9: 100120 | B9: 辰巳第三 | C9: 区立
A10: 100140 | B10: 東陽 | C10: 区立
A11: 100150 | B11: 亀戸 | C11: 区立 | D11: １歳児クラスからの受入れです。
A12: 100160 | B12: 亀戸第二 | C12: 区立 | D12: １歳児クラスからの受入れです。
A13: 100170 | B13: 亀戸第三 | C13: 区立
A14: 100190 | B14: わかば | C14: 区立
A15: 100200 | B15: 大島 | C15: 区立 | D15: １歳児クラスからの受入れです。
A16: 100210 | B16: 大島第二 | C16: 区立 | D16: １歳児クラスからの受入れです。
A17: 100220 | B17: 大島第三 | C17: 区立 | D17: １歳児クラスからの受入れです。
A18: 100230 | B18: 大島第四 | C18: 区立 | D18: １歳児クラスからの受入れです。
A19: 100250 | B19: 北砂 | C19: 区立 | D19: １歳児クラスからの受入れです。
A20: 100270 | B20: 小名木川第二 | C20: 区立
A21: 100290 | B21: 亀高第二 | C21: 区立
A22: 100300 | B22: 東砂 | C22: 区立 | D22: １歳児クラスからの受入れです。
A23: 100310 | B23: 東砂第二 | C23: 区立 | D23: １歳児クラスからの受入れです。
A24: 100330 | B24: 東砂第四 | C24: 区立 | D24: １歳児クラスからの受入れです。
A25: 100340 | B25: 南砂第一 | C25: 区立 | D25: １歳児クラスからの受入れです。
A26: 100360 | B26: 南砂第三 | C26: 区立 | D26: １歳児クラスからの受入れです。
A27: 100380 | B27: 南砂第五 | C27: 区立
A28: 100390 | B28: 城東 | C28: 区立
A29: 100400 | B29: 潮見 | C29: 公設民営
A30: 100410 | B30: 猿江 | C30: 公設民営
A31: 100420 | B31: 白河かもめ | C31: 公設民営
A32: 100430 | B32: 豊洲 | C32: 公設民営
A33: 100440 | B33: 毛利 | C33: 公設民営
A34: 100450 | B34: 南砂第二 | C34: 公設民営
A35: 100460 | B35: 塩浜 | C35: 公設民営
A36: 100470 | B36: 千田 | C36: 公設民営
A37: 100480 | B37: 亀戸第四 | C37: 公設民営
A38: 100490 | B38: 南砂さくら | C38: 公設民営
... A46: 200010 | B46: 神愛 | C46: 私立
A47: 200020 | B47: 子供の村 | C47: 私立 | D47: １歳児クラスからの受入れです。
...

Sheet 保育施設定員一覧表
A1: 地区 | B1: 施 設 名 | E1: 施設コード | F1: 所 在 地 | G1: 電 話 | H1: 定 員 | O1: 入園可能年齢 | P1: 開所 | Q1: 小規模 | R1: MAP 番号
H2: 0歳 | I2: 1歳 | J2: 2歳 | K2: 3歳 | L2: 4歳 | M2: 5歳 | N2: 合計 | O2: （月齢） | P2: 時間 | Q2: 連携園
A3: 白 河 | B3: おはよう保育園 清澄白河 | D3: 私 | E3: 200770 | F3: 清澄1-７-12 | G3: 6240-3215 | H3: 6 | I3: 10 | J3: 11 | K3: 11 | L3: 11 | M3: 11 | N3: =H3+I3+J3+K3+L3+M3 -> 60 | O3: 57日～ | P3: B | R3: 1
B4: うぃず清澄白河駅前 | D4: 私 | E4: 200360 | F4: 清澄3-10-5 | G4: 6458-5016 | H4: 6 | I4: 10 | J4: 12 | K4: 14 | L4: 14 | M4: 14 | N4: =H4+I4+J4+K4+L4+M4 -> 70 | O4: 57日～ | P4: DⅡ | R4: 2
B5: ワーカーズコープ 新大橋のびっこ（本園） | D5: 私 | E5: 200910 | F5: 新大橋2-17-9 1階 | G5: 5625-2205 | I5: 8 | J5: 10 | N5: =H5+I5+J5+K5+L5+M5 -> 18 | O5: 1歳～ | P5: B | R5: 3
B6: ワーカーズコープ 新大橋のびっこ（分園） | D6: 私 | E6: 200915 | F6: 新大橋3-16-4 1・2階 | G6: 6240-2670 | K6: 10 | L6: 10 | M6: 10 | N6: =H6+I6+J6+K6+L6+M6 -> 30 | O6: 3歳～ | P6: B | R6: 4
B7: ゆめの森 | D7: 私 | E7: 200680 | F7: 森下1-2-2 | G7: 6666-9088 | H7: 6 | I7: 11 | J7: 11 | K7: 11 | L7: 11 | M7: 11 | N7: =H7+I7+J7+K7+L7+M7 -> 61 | O7: 57日～ | P7: ＢⅡ | R7: 5
B8: 太陽の子 森下三丁目 | D8: 私 | E8: 200940 | F8: 森下3-5-26 | G8: 6659-3621 | H8: 5 | I8: 10 | J8: 11 | K8: 18 | L8: 18 | M8: 18 | N8: =H8+I8+J8+K8+L8+M8 -> 80 | O8: 57日～ | P8: BⅡ | Q8: ① | R8: 6
B9: 神愛 | D9: 私 | E9: 200010 | F9: 森下3-10-7 | G9: 3633-1580 | H9: 9 | I9: 11 | J9: 15 | K9: 15 | L9: 15 | M9: 15 | N9: =H9+I9+J9+K9+L9+M9 -> 80 | O9: 57日～ | P9: A | R9: 7
B10: 森下 | D10: 区 | E10: 100010 | F10: 森下3-14-6 | G10: 3635-1537 | I10: 16 | J10: 20 | K10: 21 | L10: 21 | M10: 21 | N10: =H10+I10+J10+K10+L10+M10 -> 99 | O10: 1歳～ | P10: B | R10: 8
B11: あゆみ | D11: 私 | E11: 200500 | F11: 森下3-18-10 | G11: 5625-2030 | I11: 8 | J11: 8 | K11: 10 | L11: 10 | M11: 10 | N11: =H11+I11+J11+K11+L11+M11 -> 46 | O11: 1歳～ | P11: BⅡ | R11: 9
B12: グローバルキッズ 深川森下園（本園） | D12: 私 | E12: 200370 | F12: 森下4-10-8 2・3階 | G12: 3635-1666 | H12: 4 | I12: 7 | J12: 8 | K12: 17 | L12: 17 | M12: 17 | N12: =H12+I12+J12+K12+L12+M12 -> 70 | O12: 57日～ | P12: BⅡ | R12: 10
B13: グローバルキッズ 深川森下園（分園） | D13: 私 | E13: 200375 | F13: 高橋2-4 | G13: 3632-1755 | H13: 5 | I13: 7 | J13: 8 | N13: =H13+I13+J13+K13+L13+M13 -> 20 | O13: 57日～ | P13: BⅡ | R13: 11
B14: グローバルキッズ森下五丁目園 | D14: 私 | E14: 201120 | F14: 森下5‐11-2 | G14: 6659-6855 | I14: 10 | J14: 12 | K14: 12 | L14: 13 | M14: 13 | N14: =H14+I14+J14+K14+L14+M14 -> 60 | O14: 1歳～ | P14: BⅡ | R14: 12
B15: グローバルキッズ平野園 | D15: 私 | E15: 201130 | F15: 平野1-3-10 | G15: 5809-8872 | I15: 10 | J15: 11 | K15: 12 | L15: 13 | M15: 14 | N15: =H15+I15+J15+K15+L15+M15 -> 60 | O15: 1歳～ | P15: BⅡ | R15: 13
B16: さくらさくみらい 三好 | D16: 私 | E16: 201140 | F16: 三好2-6-11 | G16: 5875-9839 | I16: 10 | J16: 12 | K16: 14 | L16: 14 | M16: 14 | N16: =H16+I16+J16+K16+L16+M16 -> 64 | O16: 1歳～ | P16: BⅡ | R16: 14
B17: アンジェリカ白河 | D17: 私 | E17: 201200 | F17: 三好3-2-11 | G17: 5621-7007 | I17: 10 | J17: 12 | K17: 13 | L17: 13 | M17: 13 | N17: =H17+I17+J17+K17+L17+M17 -> 61 | O17: 1歳～ | P17: BⅡ | R17: 15
B18: 白河 | D18: 区 | E18: 100020 | F18: 白河1-7-1 | G18: 3641-1198 | H18: 10 | I18: 12 | J18: 18 | K18: 19 | L18: 19 | M18: 19 | N18: =H18+I18+J18+K18+L18+M18 -> 97 | O18: 57日～ | P18: B | R18: 16
B19: 白河かもめ | D19: 公 | E19: 100420 | F19: 白河1-5-1-101 | G19: 3643-7671 | H19: 9 | I19: 12 | J19: 14 | K19: 18 | L19: 18 | M19: 18 | N19: =H19+I19+J19+K19+L19+M19 -> 89 | O19: 57日～ | P19: BⅡ | R19: 17
B20: グローバルキッズ白河一丁目園 | D20: 私 | E20: 200780 | F20: 白河1-7-5 1階 | G20: 3641-6767 | H20: 8 | I20: 9 | J20: 9 | K20: 9 | L20: 9 | M20: 9 | N20: =H20+I20+J20+K20+L20+M20 -> 53 | O20: 57日～ | P20: BⅡ | R20: 18
B21: グローバルキッズ清澄白河園 | D21: 私 | E21: 200790 | F21: 白河3-1-11 | G21: 5809-8473 | H21: 6 | I21: 15 | J21: 15 | K21: 15 | L21: 15 | M21: 15 | N21: =H21+I21+J21+K21+L21+M21 -> 81 | O21: 57日～ | P21: BⅡ | R21: 19
B22: 子供の村 | D22: 私 | E22: 200020 | F22: 白河3-3-6 | G22: 3641-1022 | I22: 12 | J22: 12 | K22: 12 | L22: 12 | M22: 12 | N22: =H22+I22+J22+K22+L22+M22 -> 60 | O22: 1歳～ | P22: AⅡ | R22: 20
B23: 小鳩保育園 清澄白河 | D23: 私 | E23: 200550 | F23: 白河3-10-8 1～3階 | G23: 3630-5810 | I23: 10 | J23: 10 | K23: 10 | L23: 10 | M23: 10 | N23: =H23+I23+J23+K23+L23+M23 -> 50 | O23: 1歳～ | P23: DⅡ | Q23: ❶ | R23: 21
B24: まなびの森保育園白河 | D24: 私 | E24: 200800 | F24: 白河4-9-2 | G24: 6240-3043 | I24: 30 | J24: 32 | K24: 36 | L24: 36 | M24: 36 | N24: =H24+I24+J24+K24+L24+M24 -> 170 | O24: 1歳～ | P24: BⅡ | R24: 22
B25: さんいく保育園清澄白河 | D25: 私 | E25: 200290 | F25: 白河4-9-25 2階 | G25: 3643-0319 | H25: 9 | I25: 16 | J25: 20 | K25: 20 | L25: 20 | M25: 20 | N25: =H25+I25+J25+K25+L25+M25 -> 105 | O25: 57日～ | P25: DⅡ | R25: 23
B26: たかもり | D26: 小A | E26: 210120 | F26: 高橋6-4 | G26: 5600-2160 | I26: 6 | J26: 6 | N26: =H26+I26+J26+K26+L26+M26 -> 12 | O26: 1歳～ | P26: E | Q26: ① | R26: 24
A27: 富 岡 | B27: 小鳩保育園 永代 | D27: 私 | E27: 201380 | F27: 永代1-12-5-101 | G27: 6458-8651 | H27: 5 | I27: 7 | J27: 7 | K27: 7 | L27: 7 | M27: 7 | N27: =H27+I27+J27+K27+L27+M27 -> 40 | O27: 57日～ | P27: DⅡ | R27: 25
B28: 深川一丁目 | D28: 区 | E28: 100030 | F28: 深川1-6-15-101 | G28: 3643-4845 | I28: 12 | J28: 16 | K28: 17 | L28: 17 | M28: 18 | N28: =H28+I28+J28+K28+L28+M28 -> 80 | O28: 1歳～ | P28: B | R28: 26
B29: おうち保育園門前仲町 | D29: 小A | E29: 210030 | F29: 深川2-16-10 | G29: 6240-3955 | H29: 4 | I29: 4 | J29: 4 | N29: =H29+I29+J29+K29+L29+M29 -> 12 | O29: 57日～ | P29: Ｂ | Q29: ② | R29: 27
B30: ナーサリールーム ベリーベアー深川冬木 | D30: 私 | E30: 200560 | F30: 冬木1-5 | G30: 5875-8628 | H30: 12 | I30: 28 | J30: 40 | K30: 50 | L30: 50 | M30: 50 | N30: =H30+I30+J30+K30+L30+M30 -> 230 | O30: 57日～ | P30: BⅡ | R30: 28
B31: もんなかほうゆう | D31: 私 | E31: 201210 | F31: 冬木11-17 | G31: 3820-1201 | I31: 5 | J31: 8 | K31: 10 | L31: 11 | M31: 11 | N31: =H31+I31+J31+K31+L31+M31 -> 45 | O31: 1歳～ | P31: DⅡ | R31: 29
B32: まこと | D32: 私 | E32: 200030 | F32: 冬木16-7 | G32: 3641-1428 | H32: 12 | I32: 15 | J32: 18 | K32: 18 | L32: 18 | M32: 18 | N32: =H32+I32+J32+K32+L32+M32 -> 99 | O32: 57日～ | P32: A | R32: 30
B33: 小鳩スマート保育所 冬木 | D33: 小A | E33: 210060 | F33: 冬木22-24 | G33: 6458-5404 | H33: 5 | I33: 7 | J33: 7 | N33: =H33+I33+J33+K33+L33+M33 -> 19 | O33: 57日～ | P33: Ｂ | Q33: ③ | R33: 31
B34: ひろがり保育園・門前仲町 | D34: 私 | E34: 201190 | F34: 富岡1-4-10 1階 | G34: 6458-8322 | H34: 3 | I34: 7 | J34: 7 | K34: 7 | L34: 8 | M34: 8 | N34: =H34+I34+J34+K34+L34+M34 -> 40 | O34: 57日～ | P34: AⅡ | R34: 32
B35: アスクもんなか | D35: 私 | E35: 200210 | F35: 富岡1-14-17 | G35: 5621-7511 | H35: 12 | I35: 15 | J35: 15 | K35: 16 | L35: 16 | M35: 16 | N35: =H35+I35+J35+K35+L35+M35 -> 90 | O35: 57日～ | P35: BⅡ | R35: 33
B36: （仮称）デイジー保育園 江東富岡バイリンガル保育園 | D36: 私 | E36: 201330 | F36: 富岡2-9-11 3階 | G36: 6458-8812 | H36: 6 | I36: 13 | J36: 13 | K36: 15 | L36: 17 | M36: 17 | N36: =H36+I36+J36+K36+L36+M36 -> 81 | O36: 57日～ | P36: BⅡ | R36: 34
B37: 木下の保育園 富岡 | D37: 私 | E37: 200270 | F37: 富岡2-11-6 1階 | G37: 3820-7441 | H37: 6 | I37: 12 | J37: 15 | K37: 15 | L37: 15 | M37: 15 | N37: =H37+I37+J37+K37+L37+M37 -> 78 | O37: 57日～ | P37: BⅡ | R37: 35
B38: さくらさくみらい 富岡 | D38: 私 | E38: 200950 | F38: 富岡2-11-14 | G38: 5809-9239 | H38: 5 | I38: 8 | J38: 10 | K38: 15 | L38: 15 | M38: 15 | N38: =H38+I38+J38+K38+L38+M38 -> 68 | O38: 57日～ | P38: BⅡ | Q38: ② | R38: 36
B39: 古石場 | D39: 区 | E39: 100040 | F39: 古石場2-14-1-102 | G39: 3643-0593 | H39: 15 | I39: 18 | J39: 23 | K39: 23 | L39: 23 | M39: 23 | N39: =H39+I39+J39+K39+L39+M39 -> 125 | O39: 57日～ | P39: B | R39: 37
B40: 太陽の子 越中島 | D40: 私 | E40: 201220 | F40: 越中島2-1-30 4階 | G40: 5809-8239 | I40: 10 | J40: 12 | K40: 14 | L40: 14 | M40: 14 | N40: =H40+I40+J40+K40+L40+M40 -> 64 | O40: 1歳～ | P40: ＢⅡ | R40: 38
...
